BEGIN:VCALENDAR
VERSION:2.0
PRODID:-//Arte Que Acontece - ECPv6.15.20//NONSGML v1.0//EN
CALSCALE:GREGORIAN
METHOD:PUBLISH
X-WR-CALNAME:Arte Que Acontece
X-ORIGINAL-URL:https://artequeacontece.com.br
X-WR-CALDESC:Eventos para Arte Que Acontece
REFRESH-INTERVAL;VALUE=DURATION:PT1H
X-Robots-Tag:noindex
X-PUBLISHED-TTL:PT1H
BEGIN:VTIMEZONE
TZID:America/Sao_Paulo
BEGIN:STANDARD
TZOFFSETFROM:-0300
TZOFFSETTO:-0300
TZNAME:-03
DTSTART:20240101T000000
END:STANDARD
END:VTIMEZONE
BEGIN:VEVENT
DTSTART;TZID=America/Sao_Paulo:20250214T110000
DTEND;TZID=America/Sao_Paulo:20250315T190000
DTSTAMP:20260419T084934
CREATED:20250211T163330Z
LAST-MODIFIED:20250211T163330Z
UID:60988-1739530800-1742065200@artequeacontece.com.br
SUMMARY:"Inner World" de Vojtěch Kovařík na Mendes Wood DM
DESCRIPTION:Vojtěch Kovařík\, “Ariadne’s Thread”\, 2024. Cortesia do artista e Mendes Wood DM. Crédito da imagem: Matěj Doležel e EstudioEmObra\nA Mendes Wood DM apresenta a exposição individual Inner World do artista Vojtěch Kovařík\, em São Paulo. A mostra\, considerada a maior e mais ambiciosa do artista tcheco\, apresenta 16 obras inéditas\, dentre elas\, pinturas e esculturas em bronze\, madeira e gesso\, que ocupam todo o espaço da ampla galeria localizada na Barra Funda. \nInner World dá continuidade à figuração de personagens e temas da mitologia grega\, com representações escultóricas de Calipso e Odisseu e pinturas de Ariadne. O que interessa ao artista\, no entanto\, são os momentos secundários e menos narrados das histórias\, como a própria finitude\, a perda e a morte. Ao mesmo tempo em que brinca com esses resíduos artísticos da memória humana\, ele também se interessa por sua atualização e redefinição\, pois os temas ainda se repetem na contemporaneidade — revelando que o ser humano provavelmente não mudou tanto assim. \nO conjunto de trabalhos desenvolvidos para essa exposição exibe uma espécie de sincretismo entre as ideias de Kovařík e os temas da mitologia grega\, como se o fluxo de pensamentos e sonhos tivesse se fundido em um mundo ideal no qual pudéssemos parar por um momento. \nA exposição é acompanhada por um ensaio escrito por Ginevria Bria.
URL:https://artequeacontece.com.br/evento/inner-world-de-vojtech-kovarik-na-mendes-wood-dm/
LOCATION:Mendes Wood DM\, R. Barra Funda\, 216 – Barra Funda\, São Paulo\, São Paulo
CATEGORIES:São Paulo
ATTACH;FMTTYPE=image/jpeg:https://artequeacontece.com.br/wp-content/uploads/2025/02/MW.VKO_.114-d3-hr-1-1.jpg
END:VEVENT
END:VCALENDAR