BEGIN:VCALENDAR
VERSION:2.0
PRODID:-//Arte Que Acontece - ECPv6.15.20//NONSGML v1.0//EN
CALSCALE:GREGORIAN
METHOD:PUBLISH
X-WR-CALNAME:Arte Que Acontece
X-ORIGINAL-URL:https://artequeacontece.com.br
X-WR-CALDESC:Eventos para Arte Que Acontece
REFRESH-INTERVAL;VALUE=DURATION:PT1H
X-Robots-Tag:noindex
X-PUBLISHED-TTL:PT1H
BEGIN:VTIMEZONE
TZID:America/Sao_Paulo
BEGIN:STANDARD
TZOFFSETFROM:-0300
TZOFFSETTO:-0300
TZNAME:-03
DTSTART:20240101T000000
END:STANDARD
END:VTIMEZONE
BEGIN:VEVENT
DTSTART;TZID=America/Sao_Paulo:20250327T180000
DTEND;TZID=America/Sao_Paulo:20250510T190000
DTSTAMP:20260422T090036
CREATED:20250327T134555Z
LAST-MODIFIED:20250327T134555Z
UID:61642-1743098400-1746903600@artequeacontece.com.br
SUMMARY:"Infinito" de Jorge Guinle na Simões de Assis
DESCRIPTION:Jorge Guinle\, Sem título\, 1985-1986. Crédito: Erika Mayumi. Cortesia Simoes de Assis\n\nA Simões de Assis apresentará entre os dias 27 de março e 10 de maio uma exposição com pinturas inéditas de Jorge Guinle (1947-1987)\, em São Paulo. A mostra “Infinito” apresenta um conjunto de 10 obras\, sendo nove em grande formato\, realizadas pelo artista durante sua temporada em Nova York\, entre 1985 e 1986. Pela primeira vez reunidas e trazidas ao Brasil\, essas pinturas marcam um momento singular em sua trajetória\, combinando maturidade artística com a densidade emocional que permeou seus últimos anos de vida. \nNo período em que produziu essas telas\, Guinle participou da 17ª Bienal de São Paulo e realizou exposições individuais em importantes galerias. Paralelamente\, enfrentava o impacto de um diagnóstico de doenças relacionadas à aids\, que levaria ao seu falecimento em 1987. As telas dessa fase nova-iorquina revelam um percurso intenso e visceral\, no qual suas composições se tornam mais diluídas e translúcidas\, sem perder a vibração gestual e cromática que caracterizou sua obra. \nA exposição conta com texto assinado por Vanda Klabin\, curadora\, historiadora e amiga próxima do artista\, que contextualiza a importância desse conjunto dentro da produção de Guinle. Reconhecido por sua abordagem singular dentro da pintura contemporânea brasileira\, ele estabeleceu um diálogo intenso com as tendências internacionais da época\, como o expressionismo abstrato e a pintura norte-americana do pós-guerra. Ao longo de sua curta\, mas intensa carreira\, Guinle foi um dos grandes incentivadores da revalorização da pintura nos anos 1980\, sendo uma referência fundamental para a chamada Geração 80. Seu trabalho era marcado pelo gestual enérgico\, pelo uso audacioso das cores e pela busca constante de uma harmonia dissonante\, que se distanciava das vertentes conceituais predominantes na década anterior. \nA série de pinturas realizadas no Kaufman’s Studio\, em Nova York\, permaneceu inédita até o momento\, mesmo sendo considerada uma das mais significativas de sua carreira. As nove pinturas foram localizadas pela galeria Simões de Assis e trazidas para primeira exposição no Brasil\, ao lado de outras obras produzidas entre 1985 e 1986; elas consolidam o estilo único do artista\, que soube capturar tanto a energia do cenário artístico internacional quanto às especificidades do contexto brasileiro. \nJorge Guinle Filho nasceu em Nova York em 1947 e passou parte de sua vida entre o Brasil\, Paris e Nova York. Autodidata\, aprofundou seus estudos em pintura a partir do contato direto com grandes mestres do modernismo\, como Henri Matisse\, além de influências decisivas da action painting e da pop art. Sua produção\, concentrada nos últimos sete anos de vida\, revela um comprometimento absoluto com a pintura como experiência vital. \nCom esta exposição\, a Simões de Assis pretende trazer ao público obras fundamentais da arte moderna e contemporânea brasileira\, promovendo a redescoberta de um dos grandes nomes da pintura do século XX.
URL:https://artequeacontece.com.br/evento/infinito-de-jorge-guinle-na-simoes-de-assis/
LOCATION:Simões de Assis Galeria de Arte\, Alameda Lorena\, 2.050 - Jardins\, São Paulo\, SP\, Brasil
CATEGORIES:São Paulo
ATTACH;FMTTYPE=image/jpeg:https://artequeacontece.com.br/wp-content/uploads/2025/03/p-Sem-Titulo-1985-1986-Jorge-Guinle.-Credito-Erika-Mayumi-cortesia-Simoes-de-Assis.jpg
END:VEVENT
END:VCALENDAR