BEGIN:VCALENDAR
VERSION:2.0
PRODID:-//Arte Que Acontece - ECPv6.15.20//NONSGML v1.0//EN
CALSCALE:GREGORIAN
METHOD:PUBLISH
X-WR-CALNAME:Arte Que Acontece
X-ORIGINAL-URL:https://artequeacontece.com.br
X-WR-CALDESC:Eventos para Arte Que Acontece
REFRESH-INTERVAL;VALUE=DURATION:PT1H
X-Robots-Tag:noindex
X-PUBLISHED-TTL:PT1H
BEGIN:VTIMEZONE
TZID:America/Sao_Paulo
BEGIN:STANDARD
TZOFFSETFROM:-0300
TZOFFSETTO:-0300
TZNAME:-03
DTSTART:20240101T000000
END:STANDARD
END:VTIMEZONE
BEGIN:VEVENT
DTSTART;VALUE=DATE:20250322
DTEND;VALUE=DATE:20250418
DTSTAMP:20260419T085138
CREATED:20250321T164928Z
LAST-MODIFIED:20250409T160346Z
UID:61706-1742601600-1744934399@artequeacontece.com.br
SUMMARY:Inauguração da galeria Yehudi Hollander-Pappi com a mostra coletiva "Românticos"
DESCRIPTION:Ross Bleckner\, Sem título\, 1990 © O artista. Cortesia de Yehudi Hollander-Pappi. Foto: Éverton Ballardin\nA Yehudi Hollander-Pappi inaugura seu espaço nos Jardins com Românticos\, exposição que apresenta os 21 artistas representados pela galeria — 17 deles em sua primeira representação. Localizada na Alameda Lorena\, a nova galeria ocupa 600 m² e escolheu um caminho pouco convencional: trabalhar exclusivamente com artistas iniciantes e dar centralidade à performance como linguagem. \nFundada por Monica Hollander\, Matheus Yehudi e Sofia Pappi\, a galeria se propõe a construir relações baseadas em tempo\, escuta e envolvimento. A mostra reúne uma diversidade de pesquisas em andamento e marca o posicionamento da galeria diante do circuito: um espaço voltado à experimentação\, ao acompanhamento próximo e ao fomento de novas vozes.
URL:https://artequeacontece.com.br/evento/inauguracao-da-galeria-yehudi-hollander-pappi-com-a-mostra-coletiva-romanticos/
LOCATION:Yehudi Hollander-Pappi\, Al. Lorena\, 1295 – Jardins\, São Paulo\, SP\, Brazil
CATEGORIES:São Paulo
ATTACH;FMTTYPE=image/jpeg:https://artequeacontece.com.br/wp-content/uploads/2025/03/dbda626dd34df8af99f4b8aff552920ffd02f3f8-1332x2000-1.jpg
END:VEVENT
END:VCALENDAR