BEGIN:VCALENDAR
VERSION:2.0
PRODID:-//Arte Que Acontece - ECPv6.15.20//NONSGML v1.0//EN
CALSCALE:GREGORIAN
METHOD:PUBLISH
X-WR-CALNAME:Arte Que Acontece
X-ORIGINAL-URL:https://artequeacontece.com.br
X-WR-CALDESC:Eventos para Arte Que Acontece
REFRESH-INTERVAL;VALUE=DURATION:PT1H
X-Robots-Tag:noindex
X-PUBLISHED-TTL:PT1H
BEGIN:VTIMEZONE
TZID:America/Sao_Paulo
BEGIN:STANDARD
TZOFFSETFROM:-0300
TZOFFSETTO:-0300
TZNAME:-03
DTSTART:20220101T000000
END:STANDARD
END:VTIMEZONE
BEGIN:VEVENT
DTSTART;TZID=America/Sao_Paulo:20230819T110000
DTEND;TZID=America/Sao_Paulo:20231105T180000
DTSTAMP:20260422T054741
CREATED:20230828T151930Z
LAST-MODIFIED:20230828T151937Z
UID:43592-1692442800-1699207200@artequeacontece.com.br
SUMMARY:"In n out" de Júlio Vieira e "Outras naturezas" de Alexandre Brandão na Casa de Cultura do Parque
DESCRIPTION:A Casa de Cultura do Parque recebe duas exposições simultâneas. A mostra In n out\, do artista Júlio Vieira e idealizada pelo projeto Dando Bandeira\, busca utilizar bandeiras como símbolos visuais que refletem as origens\, valores e histórias de um povo\, incentivando a comunidade a se unir em torno dessas expressões artísticas que enaltecem orgulho e unidade. No contexto contemporâneo\, as bandeiras ganham um simbolismo crucial\, representando luta e resistência coletiva. O projeto Dando Bandeira busca criar um espaço para a criação de bandeiras que representam ideias e batalhas valiosas\, e nesta edição inaugural\, Júlio Vieira lidera esse diálogo\, convidando o público a encarar desafios com determinação. Por outro lado\, a exposição intitulada Outras naturezas do artista mineiro Alexandre Brandão\, propõe uma reflexão sobre a relação entre a natureza e a afetividade humana. As esculturas de Brandão exploram a reconfiguração da ordem natural através de materiais minerais e vegetais\, criando uma conexão emocional e intelectual com os espectadores. A exposição desafia nossa percepção do que é natural\, ao manipular elementos como argila expandida\, cimento\, terra e musgo para criar peças que transcendem fronteiras entre o antigo e o contemporâneo.
URL:https://artequeacontece.com.br/evento/in-n-out-de-julio-vieira-e-outras-naturezas-de-alexandre-brandao-na-casa-de-cultura-do-parque/
LOCATION:Casa de Cultura do Parque\, Av. Professor Fonseca Rodrigues\, 1300 Alto de Pinheiros\, São Paulo\, São Paulo\, Brasil
CATEGORIES:São Paulo
ATTACH;FMTTYPE=image/jpeg:https://artequeacontece.com.br/wp-content/uploads/2023/08/362302439_18185041099302990_4892162613651890147_n-1-1.jpg
END:VEVENT
END:VCALENDAR