BEGIN:VCALENDAR
VERSION:2.0
PRODID:-//Arte Que Acontece - ECPv6.15.20//NONSGML v1.0//EN
CALSCALE:GREGORIAN
METHOD:PUBLISH
X-WR-CALNAME:Arte Que Acontece
X-ORIGINAL-URL:https://artequeacontece.com.br
X-WR-CALDESC:Eventos para Arte Que Acontece
REFRESH-INTERVAL;VALUE=DURATION:PT1H
X-Robots-Tag:noindex
X-PUBLISHED-TTL:PT1H
BEGIN:VTIMEZONE
TZID:America/Sao_Paulo
BEGIN:STANDARD
TZOFFSETFROM:-0300
TZOFFSETTO:-0300
TZNAME:-03
DTSTART:20230101T000000
END:STANDARD
END:VTIMEZONE
BEGIN:VEVENT
DTSTART;TZID=America/Sao_Paulo:20240530T110000
DTEND;TZID=America/Sao_Paulo:20240615T190000
DTSTAMP:20260422T072024
CREATED:20240605T193751Z
LAST-MODIFIED:20240605T193754Z
UID:49025-1717066800-1718478000@artequeacontece.com.br
SUMMARY:"In Focus: Heloisa Hariadne" na Tiwani Contemporary
DESCRIPTION:Obra de Heloisa Hariadne\n\n\n\nA Tiwani Contemporary tem o prazer de apresentar\, In Focus: Heloisa Hariadne\, que marca a primeira exposição solo da artista no Reino Unido. O evento In Focus ocorrerá no espaço de apresentação da galeria na Cork Street\, em Londres\, de 30 de maio a 15 de junho de 2024. \n\n\n\nHariadne é uma artista no início de sua carreira que estabeleceu uma linguagem visual botânica e filosoficamente orientada\, buscando questões existenciais sobre vontade e autodeterminação\, e o impacto de eventos passados pessoais e históricos\, e memórias em relação à sua subjetividade. Ao se afastar do circuito diário de perseguição às convenções da vida cotidiana contemporânea\, a artista se recolhe em isolamento e permite-se um espaço de respiração meditativa\, onde pode encontrar as respostas para essas questões através de sua prática\, transformando a tela em uma memória visual. \n\n\n\nHariadne se inspira na conexão que tem com seu corpo\, seu sustento – tanto físico quanto espiritual – e o ambiente que a cerca. A natureza\, sendo um dos elementos-chave na prática de Hariadne\, atua como curadora e é um lugar onde ela se repara e gera seu fluxo constante de imaginação. Movimento\, dança e escrita também manifestam conexões significativas que se traduzem em suas telas.
URL:https://artequeacontece.com.br/evento/in-focus-heloisa-hariadne-na-tiwani-contemporary/
LOCATION:Galeria Raquel Arnaud\, 125 R. Fidalga Vila Madalena\, São Paulo\, São Paulo\, Brasil
CATEGORIES:Londres
ATTACH;FMTTYPE=image/png:https://artequeacontece.com.br/wp-content/uploads/2024/06/screenshot_2.png
END:VEVENT
END:VCALENDAR