BEGIN:VCALENDAR
VERSION:2.0
PRODID:-//Arte Que Acontece - ECPv6.15.20//NONSGML v1.0//EN
CALSCALE:GREGORIAN
METHOD:PUBLISH
X-WR-CALNAME:Arte Que Acontece
X-ORIGINAL-URL:https://artequeacontece.com.br
X-WR-CALDESC:Eventos para Arte Que Acontece
REFRESH-INTERVAL;VALUE=DURATION:PT1H
X-Robots-Tag:noindex
X-PUBLISHED-TTL:PT1H
BEGIN:VTIMEZONE
TZID:America/Sao_Paulo
BEGIN:STANDARD
TZOFFSETFROM:-0300
TZOFFSETTO:-0300
TZNAME:-03
DTSTART:20220101T000000
END:STANDARD
END:VTIMEZONE
BEGIN:VEVENT
DTSTART;TZID=America/Sao_Paulo:20230302T100000
DTEND;TZID=America/Sao_Paulo:20230401T180000
DTSTAMP:20260422T054110
CREATED:20230313T153023Z
LAST-MODIFIED:20230313T153026Z
UID:39215-1677751200-1680372000@artequeacontece.com.br
SUMMARY:"Impossible Failures" no 52 Walker
DESCRIPTION:52 A Walker apresenta sua sexta exposição\, Impossible Failures\, que combina trabalhos de Gordon Matta-Clark (1943-1978) e Pope.L (1955-). A exposição se concentra no enfoque comum a ambos em relação à problemática em torno de arquitetura\, linguagem\, instituições\, escala e valor. Matta-Clark e Pope.L são conhecidos por suas respectivas práticas interdisciplinares que examinam os valores e os paradoxos da vida urbana\, bem como o risco inerente à criação de arte. Por meio de performances\, filmes\, desenhos e vários projetos multimídia\, os dois artistas frequentemente abriram espaços intersticiais\, realizando gestos abrangentes que levam em conta zonas deslocadas e descentralizadas. Abraçando as diversas oportunidades propiciadas pelos conceitos em torno do fracasso – e\, assim\, uma consideração pela esperança – os dois artistas empregaram linguagens e sistemas existentes para conceber ideias totalmente originais\, que antes pareciam absurdas ou insondáveis\, a fim de expor padrões e estruturas. Mais importante ainda\, eles explicitam como brincar com e dentro desses sistemas reavalia o que é possível num mundo tão codificado. Essa dupla exibição apresenta um grupo dos Failure Drawings de Pope.L (iniciados em 2003\, que o artista cria em materiais encontrados quando está em trânsito)\, ao lado de esboços conceituais de Matta-Clark que projetam e ilustram ideias aparentemente impossíveis. Projetado através das paredes amplas do espaço\, o emblemático Interset Conical de Matta-Clark (1975) será exibido com Bingo X Ninths (1974) e The Wall (1976/2007)\, além de um filme inédito de Pope.L que\, de forma semelhante\, sugere o ato de destruição enquanto o 52 Walker o oblitera. No centro da galeria\, Pope.L também criou uma nova instalação site specific\, Vigilance a.k.a Dust Room (2023). Juntos\, os trabalhos expostos sugerem afinidades na escolha intencional dos dois artistas para visualizar o fracasso e as amplas possibilidades que resultam de acolher o desconhecido.
URL:https://artequeacontece.com.br/evento/impossible-failures-no-52-walker/
LOCATION:52 Walker\, 52 Walker St Manhattan\, Nova York\, Nova York\, Estados Unidos
CATEGORIES:Nova York
ATTACH;FMTTYPE=image/jpeg:https://artequeacontece.com.br/wp-content/uploads/2023/03/71143317-49585946.jpeg
END:VEVENT
END:VCALENDAR