BEGIN:VCALENDAR
VERSION:2.0
PRODID:-//Arte Que Acontece - ECPv6.15.20//NONSGML v1.0//EN
CALSCALE:GREGORIAN
METHOD:PUBLISH
X-WR-CALNAME:Arte Que Acontece
X-ORIGINAL-URL:https://artequeacontece.com.br
X-WR-CALDESC:Eventos para Arte Que Acontece
REFRESH-INTERVAL;VALUE=DURATION:PT1H
X-Robots-Tag:noindex
X-PUBLISHED-TTL:PT1H
BEGIN:VTIMEZONE
TZID:America/Sao_Paulo
BEGIN:STANDARD
TZOFFSETFROM:-0300
TZOFFSETTO:-0300
TZNAME:-03
DTSTART:20230101T000000
END:STANDARD
END:VTIMEZONE
BEGIN:VEVENT
DTSTART;TZID=America/Sao_Paulo:20241215T110000
DTEND;TZID=America/Sao_Paulo:20250727T180000
DTSTAMP:20260419T120742
CREATED:20250610T182701Z
LAST-MODIFIED:20250610T182905Z
UID:63130-1734260400-1753639200@artequeacontece.com.br
SUMMARY:"Imagining Black Diasporas" no LACMA
DESCRIPTION:Arielle Bobb-Willis\, Nova Jersey\, 2019\, Los Angeles County Museum of Art\, Fundo Ralph M. Parsons\, foto © Museum Associates/LACMA.\n\n\n\n\nImagining Black Diasporas: 21st-Century Art and Poetics encontra conexões estéticas entre 60 artistas que atuam na África\, Europa e Américas. A exposição e seu catálogo estão entre os primeiros a examinar quase um quarto de século de produção de artistas negros. O projeto apresenta novas aquisições para o LACMA e amplia o cânone das exposições panafricanas\, historicamente focado no Atlântico Negro\, ao destacar artistas que atuam na orla do Pacífico. Cerca de 70 obras de pintura\, escultura\, fotografia\, obras em papel e mídias temporais são organizadas em quatro temas: fala e silêncio\, movimento e transformação\, imaginação e representação. Poetas contemporâneos contribuíram com trabalhos originais para o catálogo\, estendendo o uso histórico da poesia no discurso panafricano. A definição geral de diáspora como deslocamento de suas origens exclui toda a criatividade que o termo carrega. As pessoas reinventam sua herança por meio de expressões artísticas\, transformando a diáspora de um movimento regional em uma fonte de imaginação. Por meio de uma análise das escolhas estéticas de artistas negros\, Imagining Black Diasporas revela suas percepções sobre a existência.
URL:https://artequeacontece.com.br/evento/imagining-black-diasporas-no-lacma/
LOCATION:LACMA\, 5905 Wilshire Blvd Central LA\, Los Angeles\, Califórnia\, Estados Unidos
CATEGORIES:Los Angeles
ATTACH;FMTTYPE=image/jpeg:https://artequeacontece.com.br/wp-content/uploads/2025/06/LACMA_WebBanner_IBD_2025_2000-1.jpg
END:VEVENT
END:VCALENDAR