BEGIN:VCALENDAR
VERSION:2.0
PRODID:-//Arte Que Acontece - ECPv6.15.20//NONSGML v1.0//EN
CALSCALE:GREGORIAN
METHOD:PUBLISH
X-WR-CALNAME:Arte Que Acontece
X-ORIGINAL-URL:https://artequeacontece.com.br
X-WR-CALDESC:Eventos para Arte Que Acontece
REFRESH-INTERVAL;VALUE=DURATION:PT1H
X-Robots-Tag:noindex
X-PUBLISHED-TTL:PT1H
BEGIN:VTIMEZONE
TZID:America/Sao_Paulo
BEGIN:STANDARD
TZOFFSETFROM:-0300
TZOFFSETTO:-0300
TZNAME:-03
DTSTART:20240101T000000
END:STANDARD
END:VTIMEZONE
BEGIN:VEVENT
DTSTART;TZID=America/Sao_Paulo:20250607T103000
DTEND;TZID=America/Sao_Paulo:20250809T153000
DTSTAMP:20260419T084939
CREATED:20250630T190311Z
LAST-MODIFIED:20250630T190311Z
UID:63466-1749292200-1754753400@artequeacontece.com.br
SUMMARY:"Ilusão Real" na Casa Zalszupin
DESCRIPTION:Alfredo Volpi\, “Sem título (Composição em azul)”\, 1959\n\n\n\n\nSegundo os princípios da Gestalt\, a percepção total que temos de um conjunto de objetos não é a mesma que teríamos da soma de suas partes. A Psicologia da Forma compreende o elemento ilusionista que rege estruturalmente a nossa percepção real. Aqui\, os trabalhos de Felipe Cohen levam adiante as virtualidades criadas pelo espaço geométrico: a forma de um volume – ainda que parcial\, apenas sugerida – pode se complementar no nosso cérebro tanto pelo jogo de reflexos e sombras\, quanto\, simplesmente\, pela nossa predisposição mental a completar virtualmente a sua forma.  \nCohen é um artista contemporâneo baseado em São Paulo. Singular\, sua poética tem algo de desviante\, que estabelece laços\, mas não abraça inteiramente a assertividade racional da matriz construtiva que alimentou o Concretismo. Tem algo de esquivo nessa ambiguidade formal e perceptiva\, que dialoga mais com a geometria artesanal de Alfredo Volpi e seu universo onírico\, com as geometrias discretas de Willys de Castro e Judith Lauand\, com as linhas abertas das monotipias de Mira Schendel\, e com os paradoxos irônicos de Waltércio Caldas e de Cildo Meireles.  \nRaciocínio semelhante vale também para o mobiliário de Percival Lafer\, que opera com geometrias evidentes\, tais como retas e semicírculos\, em materiais rígidos e moles\, criando uma relação entre estrutura e assento na qual a visão do conjunto resulta diferente da soma de suas partes.  \nEm tempos de realidades virtuais e aumentadas\, esses trabalhos nos ajudam a posicionar melhor a nossa percepção. Aqui\, a ambiguidade entre arte e mundo real representa uma superação da pedagogia moderna\, e\, ao mesmo tempo\, uma afirmação do corpo e da experiência concreta\, ilusória porque real. Na soma\, tudo certo: como dois e dois são cinco.  \nGuilherme WisnikCurador
URL:https://artequeacontece.com.br/evento/ilusao-real-na-casa-zalszupin/
LOCATION:Casa Zalszupin\, R. Dr. Antônio Carlos de Assunção\, 138 - Jardim America\, São Paulo\, SP\, Brasil
CATEGORIES:São Paulo
ATTACH;FMTTYPE=image/jpeg:https://artequeacontece.com.br/wp-content/uploads/2025/06/Alfredo-Volpi-Sem-titulo-Composicao-em-azul-1959-1.jpg
END:VEVENT
END:VCALENDAR