BEGIN:VCALENDAR
VERSION:2.0
PRODID:-//Arte Que Acontece - ECPv6.15.20//NONSGML v1.0//EN
CALSCALE:GREGORIAN
METHOD:PUBLISH
X-WR-CALNAME:Arte Que Acontece
X-ORIGINAL-URL:https://artequeacontece.com.br
X-WR-CALDESC:Eventos para Arte Que Acontece
REFRESH-INTERVAL;VALUE=DURATION:PT1H
X-Robots-Tag:noindex
X-PUBLISHED-TTL:PT1H
BEGIN:VTIMEZONE
TZID:America/Sao_Paulo
BEGIN:STANDARD
TZOFFSETFROM:-0300
TZOFFSETTO:-0300
TZNAME:-03
DTSTART:20240101T000000
END:STANDARD
END:VTIMEZONE
BEGIN:VEVENT
DTSTART;TZID=America/Sao_Paulo:20250802T110000
DTEND;TZID=America/Sao_Paulo:20251026T180000
DTSTAMP:20260419T100459
CREATED:20250801T195725Z
LAST-MODIFIED:20250801T195809Z
UID:64024-1754132400-1761501600@artequeacontece.com.br
SUMMARY:"II Ciclo Expositivo" na Casa de Cultura do Parque
DESCRIPTION:Imagem: Divulgação\nA Casa de Cultura do Parque inaugura\, em 2 de agosto\, seu II Ciclo Expositivo\, que segue até 26 de outubro. A programação gratuita inclui as exposições “Palavra e gesto”\, coletiva na Galeria do Parque\, “Carolina Colichio: Substrato”\, no Gabinete\, e “Antonio Pulquério: É de SANTO\, é de BARRO”\, no Projeto 280X1020. A abertura contará ainda com performances de Antonio Pulquério e da artista indígena colombiana Julieth Morales. \nA coletiva “Palavra e gesto”\, com texto crítico de Camila Bechelany\, reúne trabalhos de Fabio Miguez\, Maíra Dietrich\, Marcelo Cipis\, Marilá Dardot\, Monica Barki e Rafael Alonso. As obras exploram a intersecção entre pintura e escrita\, tensionando imagem e texto em poéticas verbo-visuais singulares\, que remetem à visualidade vernacular e cotidiana. \nNo Gabinete\, a mostra “Substrato” apresenta a pesquisa de Carolina Colichio (Ribeirão Preto\, 1977). A artista utiliza fragmentos e imagens de paisagens em cerâmica e pintura\, buscando dar visibilidade a existências e propor uma mediação da matéria. Suas peças\, que remetem a fósseis e minerais\, convidam à percepção do potencial ilimitado das coisas\, fomentando uma natureza comum e interconectada. \nO Projeto 280X1020 recebe “É de SANTO\, é de BARRO”\, de Antônio Pulquério (Campos Sales\, CE\, 1967). A intervenção\, que tem performance de abertura do artista em 2 de agosto\, subverte a lógica modular minimalista ao usar módulos artesanais de barro queimado. As peças\, que remetem a Espadas de São Jorge ou Santa Bárbara\, entrelaçam o terreno e o divino\, refletindo o sincretismo cultural brasileiro onde santos católicos e divindades africanas se confundem. O texto de apresentação da mostra é de autoria de Tadeu Chiarelli. \nCompleta a programação de abertura\, às 17h\, a performance “ANINPI (Agua y sangre)”\, da artista indígena Julieth Morales (Colômbia\, 1992). A ação ritual\, conduzida com sua mãe\, explora a identidade cultural feminina e a ancestralidade. As duas recriam o ritual das Mojigangas\, usando telas fúcsia e azul – da bandeira Misak – que simbolizam a luta\, fertilidade\, água e origem de seu povo. A performance harmoniza memória e presente\, conectando mundos espiritual\, físico e territorial ao som da música tradicional Misak. \nAs mostras contam com direção artística de Claudio Cretti e são uma idealização do Instituto de Cultura Contemporânea (ICCo). A CASA DE CULTURA DO PARQUE \nA Casa de Cultura do Parque\, localizada em frente ao Parque Villa-Lobos\, no Alto de Pinheiros\, em São Paulo\, é um espaço plural que busca estimular reflexões sobre a agenda contemporânea\, promovendo uma gama de atividades culturais e educativas que incluem exposições de arte\, shows\, palestras\, cursos e oficinas. A Casa de Cultura do Parque tem como parceiro institucional o Instituto de Cultura Contemporânea – ICCo\, uma OSCIP sem fins lucrativos. As duas iniciativas\, de natureza socioeducativa\, compartilham a mesma missão de ampliar a compreensão e a apreciação da arte e do conhecimento.
URL:https://artequeacontece.com.br/evento/ii-ciclo-expositivo-na-casa-de-cultura-do-parque/
LOCATION:Casa de Cultura do Parque\, Av. Professor Fonseca Rodrigues\, 1300 Alto de Pinheiros\, São Paulo\, São Paulo\, Brasil
CATEGORIES:São Paulo
ATTACH;FMTTYPE=image/png:https://artequeacontece.com.br/wp-content/uploads/2025/08/Palavra-e-Gesto-II-Ciclo-25_CCP-1200x600-1.png
END:VEVENT
END:VCALENDAR