BEGIN:VCALENDAR
VERSION:2.0
PRODID:-//Arte Que Acontece - ECPv6.15.20//NONSGML v1.0//EN
CALSCALE:GREGORIAN
METHOD:PUBLISH
X-WR-CALNAME:Arte Que Acontece
X-ORIGINAL-URL:https://artequeacontece.com.br
X-WR-CALDESC:Eventos para Arte Que Acontece
REFRESH-INTERVAL;VALUE=DURATION:PT1H
X-Robots-Tag:noindex
X-PUBLISHED-TTL:PT1H
BEGIN:VTIMEZONE
TZID:America/Sao_Paulo
BEGIN:STANDARD
TZOFFSETFROM:-0300
TZOFFSETTO:-0300
TZNAME:-03
DTSTART:20230101T000000
END:STANDARD
END:VTIMEZONE
BEGIN:VEVENT
DTSTART;TZID=America/Sao_Paulo:20240904T110000
DTEND;TZID=America/Sao_Paulo:20241026T190000
DTSTAMP:20260419T085141
CREATED:20240830T143155Z
LAST-MODIFIED:20240830T143155Z
UID:50717-1725447600-1729969200@artequeacontece.com.br
SUMMARY:"Ibrahim Mahama: A Spell of Good Things" de Yoko Matsumoto na White Cube
DESCRIPTION:Ibrahim Mahama\, Abena\, 2024\n\n\n\n\nA White Cube apresenta uma exposição individual de Ibrahim Mahama\, apresentando uma nova instalação e uma série de desenhos em carvão que tomam as ferrovias da era colonial de Gana como ponto de referência principal. \nAmpliando a investigação contínua do artista sobre as economias de trabalho e migração\, a exposição explora o potencial latente de materiais industriais recuperados para construir narrativas visuais em torno da produção e do comércio locais. \nPara marcar a abertura da exposição\, Ibrahim Mahama participará de uma conversa com Courtney Willis Blair\, Diretora Sênior da White Cube US\, das 17h às 18h no dia 4 de setembro de 2024. O evento será seguido por uma prévia da exposição\, que continuará até as 20h.
URL:https://artequeacontece.com.br/evento/ibrahim-mahama-a-spell-of-good-things-de-yoko-matsumoto-na-white-cube/
LOCATION:White Cube Nova York\, 1002 Madison Avenue\, Nova York\, Nova York\, Estados Unidos
CATEGORIES:Nova York
ATTACH;FMTTYPE=image/jpeg:https://artequeacontece.com.br/wp-content/uploads/2024/08/Ibrahim-Mahama-Abena-2-1-1.jpg
END:VEVENT
END:VCALENDAR