BEGIN:VCALENDAR
VERSION:2.0
PRODID:-//Arte Que Acontece - ECPv6.15.20//NONSGML v1.0//EN
CALSCALE:GREGORIAN
METHOD:PUBLISH
X-WR-CALNAME:Arte Que Acontece
X-ORIGINAL-URL:https://artequeacontece.com.br
X-WR-CALDESC:Eventos para Arte Que Acontece
REFRESH-INTERVAL;VALUE=DURATION:PT1H
X-Robots-Tag:noindex
X-PUBLISHED-TTL:PT1H
BEGIN:VTIMEZONE
TZID:America/Sao_Paulo
BEGIN:STANDARD
TZOFFSETFROM:-0300
TZOFFSETTO:-0300
TZNAME:-03
DTSTART:20240101T000000
END:STANDARD
END:VTIMEZONE
BEGIN:VEVENT
DTSTART;TZID=America/Sao_Paulo:20250417T100000
DTEND;TZID=America/Sao_Paulo:20250811T180000
DTSTAMP:20260422T053628
CREATED:20250416T191429Z
LAST-MODIFIED:20250416T191444Z
UID:62220-1744884000-1754935200@artequeacontece.com.br
SUMMARY:"Highlights of Drawings from The Frick Collection" na The Frick Collection
DESCRIPTION:Claude Lorrain\, “View from Tivoli”\, 1651. © The Frick Collection\n\n\n\n\nUma mostra de obras sobre papel da coleção permanente da Frick Collection inaugurará a nova galeria Cabinet. Por serem sensíveis à luz\, essas peças raramente são expostas. A seleção reúne doze obras\, que vão de esboços a criações acabadas e autônomas\, assinadas por artistas como Pisanello\, Rubens\, Goya e Degas — abrangendo do século XV ao XIX. A exposição complementa o acervo do museu\, que inclui pinturas\, esculturas e artes decorativas.
URL:https://artequeacontece.com.br/evento/highlights-of-drawings-from-the-frick-collection-na-the-frick-collection/
LOCATION:The Frick Collection\, 945 Madison Avenue at 75th Street\, Nova York\, Nova York\, Estados Unidos
CATEGORIES:Nova York
ATTACH;FMTTYPE=image/jpeg:https://artequeacontece.com.br/wp-content/uploads/2025/04/Claude_19823123-2000.jpg
END:VEVENT
END:VCALENDAR