BEGIN:VCALENDAR
VERSION:2.0
PRODID:-//Arte Que Acontece - ECPv6.15.20//NONSGML v1.0//EN
CALSCALE:GREGORIAN
METHOD:PUBLISH
X-WR-CALNAME:Arte Que Acontece
X-ORIGINAL-URL:https://artequeacontece.com.br
X-WR-CALDESC:Eventos para Arte Que Acontece
REFRESH-INTERVAL;VALUE=DURATION:PT1H
X-Robots-Tag:noindex
X-PUBLISHED-TTL:PT1H
BEGIN:VTIMEZONE
TZID:America/Sao_Paulo
BEGIN:STANDARD
TZOFFSETFROM:-0300
TZOFFSETTO:-0300
TZNAME:-03
DTSTART:20240101T000000
END:STANDARD
END:VTIMEZONE
BEGIN:VEVENT
DTSTART;TZID=America/Sao_Paulo:20250710T103000
DTEND;TZID=America/Sao_Paulo:20251012T180000
DTSTAMP:20260422T074229
CREATED:20250917T200032Z
LAST-MODIFIED:20250917T200033Z
UID:64930-1752143400-1760292000@artequeacontece.com.br
SUMMARY:"Herbert Smith Freehills Kramer  Portrait Award 2025" na National Portrait Gallery
DESCRIPTION:Yvadney Davis\, “Inset Day”\, 2025 © Yvadney Davis\n\n\n\n\nO prestigiado concurso de pintura retorna em 2025. O Herbert Smith Freehills Kramer Portrait Award celebra o que há de melhor no retrato contemporâneo e é uma das mais importantes plataformas para pintores de retratos na atualidade. Neste ano\, 46 retratos cativantes de diversas partes do mundo foram selecionados para compor a exposição. \nAs obras exploram a variedade de abordagens ao retrato\, do clássico ao contemporâneo\, e incentivam o público a refletir sobre a criatividade dos processos artísticos. \nDesde a sua criação\, o tradicional concurso já atraiu mais de 40 mil inscrições de mais de 100 países e foi visto por mais de 6 milhões de pessoas. Altamente competitivo\, o prêmio estimula artistas maiores de 18 anos a se dedicarem e desenvolverem o tema do retrato em suas produções. Utilizando uma impressionante variedade e complexidade de técnicas\, os artistas exploram tanto recursos clássicos quanto inovadores\, demonstrando a relevância duradoura do retrato na arte de hoje.
URL:https://artequeacontece.com.br/evento/herbert-smith-freehills-kramer-portrait-award-2025-na-national-portrait-gallery/
LOCATION:National Portrait Gallery\, St. Martin's Pl\, Londres\, Reino unido
CATEGORIES:Londres
ATTACH;FMTTYPE=image/jpeg:https://artequeacontece.com.br/wp-content/uploads/2025/09/main.b4ac35b5.hsfkpa25_inset_day_2025_yvadney_davis.3b281d58-1-1.jpg
END:VEVENT
END:VCALENDAR