BEGIN:VCALENDAR
VERSION:2.0
PRODID:-//Arte Que Acontece - ECPv6.15.20//NONSGML v1.0//EN
CALSCALE:GREGORIAN
METHOD:PUBLISH
X-WR-CALNAME:Arte Que Acontece
X-ORIGINAL-URL:https://artequeacontece.com.br
X-WR-CALDESC:Eventos para Arte Que Acontece
REFRESH-INTERVAL;VALUE=DURATION:PT1H
X-Robots-Tag:noindex
X-PUBLISHED-TTL:PT1H
BEGIN:VTIMEZONE
TZID:America/Sao_Paulo
BEGIN:STANDARD
TZOFFSETFROM:-0300
TZOFFSETTO:-0300
TZNAME:-03
DTSTART:20230101T000000
END:STANDARD
END:VTIMEZONE
BEGIN:VEVENT
DTSTART;TZID=America/Sao_Paulo:20240324T100000
DTEND;TZID=America/Sao_Paulo:20240728T170000
DTSTAMP:20260422T072444
CREATED:20240606T161620Z
LAST-MODIFIED:20240606T161623Z
UID:49083-1711274400-1722186000@artequeacontece.com.br
SUMMARY:"Hallyu! The Korean Wave" no Museum of Fine Arts Boston
DESCRIPTION:Vista da instalação de “Hallyu! The Korean Wave”. Cortesia do Museum of Fine Arts\, Boston\n\n\n\nHoje\, a Coreia do Sul é uma superpotência cultural — uma formadora de tendências globais que produz filmes premiados como “Parasita”\, dramas emocionantes como “Round 6” e música de sucesso de grupos de K-pop como BTS e BLACKPINK. Mas\, por trás da ascensão meteórica do país ao palco mundial — um fenômeno conhecido como a Onda Coreana\, ou hallyu — está a história de notável resiliência e inovação. \n\n\n\nHá apenas um século\, a Coreia estava em busca de uma nova identidade nacional\, após sua ocupação pelo Japão e a Guerra da Coreia. Aproveitando a tecnologia de ponta\, o país transformou rapidamente sua economia e reputação internacional. Ao mesmo tempo\, suas produções criativas estão profundamente enraizadas em seu passado\, com muitos artistas contemporâneos\, cineastas\, músicos e estilistas prestando homenagem aos valores tradicionais e formas de arte que remontam aos dias dos reinos dinásticos da Coreia. \n\n\n\n“Hallyu! The Korean Wave” apresenta aproximadamente 250 objetos — trajes\, adereços\, fotografias\, vídeos\, efemeridades da cultura pop e obras contemporâneas. Entre os destaques estão roupas usadas por diferentes gerações de ídolos do K-pop\, vestidos da designer de alta costura Park Sohee e da vencedora do Next in Fashion Minju Kim\, um trabalho de agulha em grande escala projetado pela artista sul-coreana Kyungah Ham e feito por bordadeiras anônimas da Coreia do Norte\, e peças explorando a experiência coreano-americana por Timothy Hyunsoo Lee e Julia Kwon. Além disso\, a exposição apresenta objetos da renomada coleção de arte coreana do MFA\, incluindo o icônico jarro da lua e hanbok. \n\n\n\nJunte-se a nós em uma jornada imersiva e multissensorial através de uma história fascinante\, e celebre uma força criativa vibrante que conecta divisões culturais\, sociais e linguísticas e continua a alcançar novos patamares hoje.
URL:https://artequeacontece.com.br/evento/hallyu-the-korean-wave-no-museum-of-fine-arts-boston/
LOCATION:MFA Boston\, 465 Huntington Ave\, Boston\, Massachusetts\, Estados Unidos
CATEGORIES:Boston
ATTACH;FMTTYPE=image/jpeg:https://artequeacontece.com.br/wp-content/uploads/2024/06/6-scaled-1.jpg
END:VEVENT
END:VCALENDAR