BEGIN:VCALENDAR
VERSION:2.0
PRODID:-//Arte Que Acontece - ECPv6.15.20//NONSGML v1.0//EN
CALSCALE:GREGORIAN
METHOD:PUBLISH
X-WR-CALNAME:Arte Que Acontece
X-ORIGINAL-URL:https://artequeacontece.com.br
X-WR-CALDESC:Eventos para Arte Que Acontece
REFRESH-INTERVAL;VALUE=DURATION:PT1H
X-Robots-Tag:noindex
X-PUBLISHED-TTL:PT1H
BEGIN:VTIMEZONE
TZID:America/Sao_Paulo
BEGIN:STANDARD
TZOFFSETFROM:-0300
TZOFFSETTO:-0300
TZNAME:-03
DTSTART:20240101T000000
END:STANDARD
END:VTIMEZONE
BEGIN:VEVENT
DTSTART;TZID=America/Sao_Paulo:20250320T110000
DTEND;TZID=America/Sao_Paulo:20250907T180000
DTSTAMP:20260422T072737
CREATED:20250723T162627Z
LAST-MODIFIED:20250723T162627Z
UID:63845-1742468400-1757268000@artequeacontece.com.br
SUMMARY:"Gyula Kosice: Intergalactic" no Pérez Art Museum Miami
DESCRIPTION:Gyula Kosice\, “Satelite de luzl”\, 1970. Cortesia do Malba – Museo de Arte Latinoamericano de Buenos Aires. Foto: Santiago Orti\n\n\n\n\nCem anos após seu nascimento\, Gyula Kosice: Intergalactic celebra a trajetória do artista argentino Gyula Kosice (n. 1924\, Košice\, Tchecoslováquia; m. 2016\, Buenos Aires\, Argentina)\, artista experimental\, escultor\, poeta e teórico. Co-fundador dos grupos de arte construtiva Arturo (1944) e Madí (1946)\, com atuação concentrada na região do Rio da Prata entre Uruguai e Argentina\, Kosice também foi uma figura de destaque na vanguarda internacional após 1945. Sua prática introduziu ideias artísticas originais\, como esculturas interativas que questionavam a relação entre o objeto artístico e o espectador\, além de experimentar com uma ampla variedade de materiais — muitos deles inéditos no campo das artes visuais. \nAssim como Julio Le Parc e Carlos Cruz-Diez\, Kosice incorporou luz e movimento em sua produção\, mas foi um dos primeiros a utilizar água como elemento artístico. A exposição Intergalactic foca justamente em sua vertente experimental\, na qual o movimento é constante e essencial. São apresentados trabalhos realizados entre 1950 e 1980\, como esculturas em acrílico\, relevos cinéticos e gotas d’água\, muitos deles ativados por luzes\, aeradores e motores. \nO destaque da mostra é a obra mais ambiciosa de Kosice: A Cidade Hidroespacial (The Hydrospatial City\, 1946–2004)\, uma instalação imersiva composta por protótipos arquitetônicos que especulam sobre a possibilidade de uma colonização humana além da Terra\, motivada por desigualdade socioeconômica\, degradação ambiental e crescimento populacional acelerado. Como alternativa\, o artista propôs uma cidade formada por habitats modulares semiabertos\, suspensos a 1.500 metros do solo e alimentados por oxigênio e hidrogênio extraídos do vapor d’água presente nas nuvens.
URL:https://artequeacontece.com.br/evento/gyula-kosice-intergalactic-no-perez-art-museum-miami/
LOCATION:Pérez Art Museum Miami\, 1103 Biscayne Blvd.\, Miami\, Flórida\, Estados Unidos
CATEGORIES:Miami
ATTACH;FMTTYPE=image/jpeg:https://artequeacontece.com.br/wp-content/uploads/2025/07/101-satelite-de-luz-ALTA-3325-1024x684-1.jpg
END:VEVENT
END:VCALENDAR