BEGIN:VCALENDAR
VERSION:2.0
PRODID:-//Arte Que Acontece - ECPv6.15.20//NONSGML v1.0//EN
CALSCALE:GREGORIAN
METHOD:PUBLISH
X-WR-CALNAME:Arte Que Acontece
X-ORIGINAL-URL:https://artequeacontece.com.br
X-WR-CALDESC:Eventos para Arte Que Acontece
REFRESH-INTERVAL;VALUE=DURATION:PT1H
X-Robots-Tag:noindex
X-PUBLISHED-TTL:PT1H
BEGIN:VTIMEZONE
TZID:America/Sao_Paulo
BEGIN:STANDARD
TZOFFSETFROM:-0300
TZOFFSETTO:-0300
TZNAME:-03
DTSTART:20220101T000000
END:STANDARD
END:VTIMEZONE
BEGIN:VEVENT
DTSTART;TZID=America/Sao_Paulo:20230518T110000
DTEND;TZID=America/Sao_Paulo:20230729T170000
DTSTAMP:20260422T053411
CREATED:20230522T172227Z
LAST-MODIFIED:20230522T172231Z
UID:40905-1684407600-1690650000@artequeacontece.com.br
SUMMARY:Grant Czuj e "Saint Valentine" na Nina Johnson Gallery
DESCRIPTION:Welcome home\, son\, nova individual com obras inéditas e existentes do artista polonês-americano Grant Czuj e curadoria de Michael Sherman. A mostra aborda as histórias familiares do artista e suas investigações estéticas sobre alienação. Trabalhando com vários objetos e materiais\, Czuj constrói um processo indexical da pintura para imitar as táticas de administração e reabilitação dentro do sistema prisional e a repressão nos sistemas de classe\, trazendo tanto aspectos tradicionais no processo de pintura quanto respostas emotivas do espectador. Welcome home\, son apresenta onze pinturas de várias séries de Czuj\, incluindo as séries Left-Overs e Administrator\, que incorporam uma variedade de meios\, como madeira\, fronhas\, impressões a jato de tinta\, esmalte\, tinta látex\, borracha\, flanela e fios\, entre outros. Czuj também introduz uma nova série intitulada Home. Já em Saint Valentine\, uma exposição coletiva\, são apresentadas novas obras de Francesca DiMattio\, Elsa Hansen Oldham\, Anna Betbeze e Katie Stout. A mostra reúne quatro artistas e suas relações compartilhadas com vários meios tradicionalmente associados à domesticidade\, incorporando elementos de aspereza\, sujeira\, violência e fisicalidade. O conceito de Saint Valentine refere-se tanto à natureza agressiva de um Valentine (o coração perfurado\, o martírio) quanto às suas qualidades açucaradas (romance excessivo\, presentes exorbitantes). Em sua prática\, Francesca DiMattio adota uma abordagem em camadas e não hierárquica para criar pinturas e esculturas de cerâmica. Manipulando imagens de várias fontes\, DiMattio funde abstração e representação sem adotar completamente um estilo específico. Conhecida por suas obras de fibra bordadas\, Elsa Hansen Oldham cria delicados bordados cruzados com figuras públicas e religiosas provocativas. Uma forma antiga de decoração impregnada de significado histórico\, Oldham revitaliza a prática e conecta culturas usando o bordado como meio de comunicação. Anna Betbeze une visão e tato para criar uma experiência singular. Abandonando a tela e recorrendo à lã como meio\, a artista tingi\, corta\, queima e apara suas superfícies texturizadas\, transformando-as em grandes e luxuosos painéis de parede. Katie Stout completa a exposição com a apresentação de novas e importantes obras.
URL:https://artequeacontece.com.br/evento/grant-czuj-e-saint-valentine-na-nina-johnson-gallery/
LOCATION:Nina Johnson Gallery\, 6315 NW 2nd Ave\, Miami\, Flórida\, Estados Unidos
CATEGORIES:Miami
ATTACH;FMTTYPE=image/jpeg:https://artequeacontece.com.br/wp-content/uploads/2023/05/MG_3988-copy-1.jpg
END:VEVENT
END:VCALENDAR