BEGIN:VCALENDAR
VERSION:2.0
PRODID:-//Arte Que Acontece - ECPv6.15.20//NONSGML v1.0//EN
CALSCALE:GREGORIAN
METHOD:PUBLISH
X-WR-CALNAME:Arte Que Acontece
X-ORIGINAL-URL:https://artequeacontece.com.br
X-WR-CALDESC:Eventos para Arte Que Acontece
REFRESH-INTERVAL;VALUE=DURATION:PT1H
X-Robots-Tag:noindex
X-PUBLISHED-TTL:PT1H
BEGIN:VTIMEZONE
TZID:America/Sao_Paulo
BEGIN:STANDARD
TZOFFSETFROM:-0300
TZOFFSETTO:-0300
TZNAME:-03
DTSTART:20240101T000000
END:STANDARD
END:VTIMEZONE
BEGIN:VEVENT
DTSTART;TZID=America/Sao_Paulo:20250213T100000
DTEND;TZID=America/Sao_Paulo:20250413T170000
DTSTAMP:20260425T230659
CREATED:20250214T221036Z
LAST-MODIFIED:20250214T221036Z
UID:61089-1739440800-1744563600@artequeacontece.com.br
SUMMARY:"Grafismo Emergente" de Tirry Pataxó na EAV Parque Lage
DESCRIPTION:Detalhe da obra de Tirry Pataxó\nA Escola de Artes Visuais do Parque Lage apresenta a exposição Grafismo Emergente\, do artista Tirry Pataxó\, ex-aluno da instituição. A mostra\, com curadoria de Adriana Nakamuta\, será inaugurada no dia 13 de fevereiro de 2025\, às 19h\, e ficará em exibição até o dia 13 de abril de 2025\, na Capelinha da EAV Parque Lage. \nNascido no Rio de Janeiro e pertencente ao povo indígena Pataxó\, Tirry Pataxó desenvolve\, há anos\, uma produção artística que traduz sua relação profunda com a natureza e suas geometrias\, sempre conectando o simbolismo de sua ancestralidade à sua prática criativa. Em Grafismo Emergente\, o artista apresenta uma seleção inédita de obras\, que refletem sua pesquisa visual e sensibilidade ao abordar os grafismos e as formas geométricas de seu povo. Suas pinturas\, em tamanhos variados\, oferecem novas perspectivas sobre a vida e a natureza\, criando uma ponte entre memória ancestral e expressão contemporânea. \nA exposição propõe uma imersão interpretativa para todos que visitam o Parque Lage\, convidando o público a olhar para os grafismos de Tirry Pataxó como um convite ao respeito\, à reflexão e à reverência aos povos indígenas e suas práticas artísticas. Ao explorar planos\, pontos\, linhas e cores\, suas obras revelam uma linguagem emergente que chama a atenção para o posicionamento cultural e político dos artistas indígenas\, ampliando os horizontes sobre a arte e a identidade no Brasil. \nA exposição faz parte do Plano Anual de Atividades da Escola de Artes Visuais do Parque Lage por meio da Lei Federal de Incentivo à Cultura.
URL:https://artequeacontece.com.br/evento/grafismo-emergente-de-tirry-pataxo-na-eav-parque-lage/
LOCATION:EAV Parque Lage\, Rua Jardim Botânico\, 414\, Rio de Janeiro\, RJ\, Brasil
CATEGORIES:Rio de Janeiro
ATTACH;FMTTYPE=image/jpeg:https://artequeacontece.com.br/wp-content/uploads/2025/02/SF1A0530-1-scaled-1.jpg
END:VEVENT
END:VCALENDAR