BEGIN:VCALENDAR
VERSION:2.0
PRODID:-//Arte Que Acontece - ECPv6.15.20//NONSGML v1.0//EN
CALSCALE:GREGORIAN
METHOD:PUBLISH
X-WR-CALNAME:Arte Que Acontece
X-ORIGINAL-URL:https://artequeacontece.com.br
X-WR-CALDESC:Eventos para Arte Que Acontece
REFRESH-INTERVAL;VALUE=DURATION:PT1H
X-Robots-Tag:noindex
X-PUBLISHED-TTL:PT1H
BEGIN:VTIMEZONE
TZID:America/Sao_Paulo
BEGIN:STANDARD
TZOFFSETFROM:-0300
TZOFFSETTO:-0300
TZNAME:-03
DTSTART:20240101T000000
END:STANDARD
END:VTIMEZONE
BEGIN:VEVENT
DTSTART;TZID=America/Sao_Paulo:20250403T100000
DTEND;TZID=America/Sao_Paulo:20250907T180000
DTSTAMP:20260419T103523
CREATED:20250621T180835Z
LAST-MODIFIED:20250621T180835Z
UID:63373-1743674400-1757268000@artequeacontece.com.br
SUMMARY:"Giuseppe Penone: Thoughts in the Roots" na Serpentines Galleries
DESCRIPTION:Giuseppe Penone\, “Alberi libro (Book Trees)\, 2017\, e Respirare l’ombra (To Breathe the Shadow)”\, 2000\, vista da instalação\, Serpentine South. © Foto: George Darrell. Cortesia de Giuseppe Penone e Serpentine\n\n\n\n\nRemembering é a primeira exposição individual institucional de Arpita Singh fora da Índia\, reunindo obras-chave selecionadas em estreita colaboração com a artista\, cuja carreira prolífica se estende por mais de seis décadas. As pinturas de Singh refletem seu estado emocional e psicológico\, inspiradas na arte folclórica bengalesa\, nas narrativas indianas e nas próprias experiências diante de conflitos sociais e transformações globais. \nApresentada na Serpentine North\, a exposição percorre os trabalhos luminosos de Singh desde os anos 1960 até os mais recentes\, exibindo desde suas grandes telas em óleo até aquarelas e desenhos em nanquim de escala mais intimista. Remembering revela como a artista transita entre surrealismo\, figuração e abstração\, além de suas referências às pinturas de corte indianas. A partir da década de 1990\, Singh passou a aprofundar temas como maternidade\, envelhecimento do corpo feminino\, sensualidade\, vulnerabilidade e violência\, refletindo como os relacionamentos e os eventos externos moldam seu universo emocional e psicológico. \nSuas obras são retratos íntimos da vida doméstica e interior\, mas também se debruçam sobre as experiências de mulheres que enfrentam os desafios do mundo exterior. Resistindo a interpretações únicas\, Singh cria uma tensão constante ao entrelaçar paisagens urbanas labirínticas com observações sobre eventos históricos perturbadores e cenas da vida cotidiana. \nA curadoria de Remembering é assinada por Tamsin Hong\, curadora de exposições\, e Liz Stumpf\, assistente de curadoria.
URL:https://artequeacontece.com.br/evento/giuseppe-penone-thoughts-in-the-roots-na-serpentines-galleries/
LOCATION:Serpentine South Gallery\, Kensington Gardens London W2 3XA\, Londres\, Reino unido
CATEGORIES:Londres
ATTACH;FMTTYPE=image/jpeg:https://artequeacontece.com.br/wp-content/uploads/2025/06/Serp_G.Penone_027-1780x1001-1.jpg
END:VEVENT
END:VCALENDAR