BEGIN:VCALENDAR
VERSION:2.0
PRODID:-//Arte Que Acontece - ECPv6.15.20//NONSGML v1.0//EN
CALSCALE:GREGORIAN
METHOD:PUBLISH
X-WR-CALNAME:Arte Que Acontece
X-ORIGINAL-URL:https://artequeacontece.com.br
X-WR-CALDESC:Eventos para Arte Que Acontece
REFRESH-INTERVAL;VALUE=DURATION:PT1H
X-Robots-Tag:noindex
X-PUBLISHED-TTL:PT1H
BEGIN:VTIMEZONE
TZID:America/Sao_Paulo
BEGIN:STANDARD
TZOFFSETFROM:-0300
TZOFFSETTO:-0300
TZNAME:-03
DTSTART:20230101T000000
END:STANDARD
END:VTIMEZONE
BEGIN:VEVENT
DTSTART;TZID=America/Sao_Paulo:20241031T100000
DTEND;TZID=America/Sao_Paulo:20250118T190000
DTSTAMP:20260422T072428
CREATED:20241030T163128Z
LAST-MODIFIED:20241030T163304Z
UID:58907-1730368800-1737226800@artequeacontece.com.br
SUMMARY:“Giros e Afetos\, Arte Brasileira 1983-1995” na Nara Roesler
DESCRIPTION:Amelia Toledo\, “Vírgula” (detalhe)\, 1988/2022\n\n\n\n\nNara Roesler São Paulo apresenta\, a partir de 31 de outubro de 2024\, a exposição Giros e Afetos\, Arte Brasileira 1983-1995\, com 39 obras de 18 grandes artistas\, criadas neste período. São trabalhos em diferentes tamanhos\, técnicas e pesquisas\, em pinturas\, aquarelas\, desenhos\, esculturas e bordados\, que mostram que “entre voltas e afetos\, ainda que compartilhando o mesmo momento histórico\, e\, embora aparentemente semelhantes\, os artistas e suas obras são únicos e irrepetíveis\, e cada um deles inaugura uma temporalidade específica”\, como afirmam Luis Pérez-Oramas e o núcleo curatorial da Nara Roesler\, que organizaram a mostra. \nOs artistas com obras na exposição são: Amelia Toledo (1926)\, Angelo Venosa (1954-2022)\, Antonio Dias (1944-2018)\, Carlito Carvalhosa (1961-2021)\, Carlos Zílio (1944)\, Cristina Canale (1961)\, Daniel Senise (1955)\, Fabio Miguez (1962)\, José Cláudio (1932-2023)\, Karin Lambrecht (1957)\, Leda Catunda (1961)\, Leonilson (1957-1993)\, Marcos Chaves (1961)\, Mira Schendel (1919-1988)\, Paulo Bruscky (1949)\, Sérgio Sister (1948)\, Tomie Ohtake (1913-2015) e Vik Muniz (1961). \n“Em sua tentativa ilusória de se tornar científica\, a história da arte esquece que\, durante séculos\, suas realizações foram reguladas\, explicadas e sustentadas por uma teoria dos afetos\, também chamada de teoria das paixões”\, comentam os curadores. “A obra de arte é uma obra de afeto\, na medida em que\, precisamente\, o valor estético que nos afeta só é experimentado como recepção. Essa dimensão subjetiva do afeto significa que\, a rigor\, cada obra de arte pertence a uma temporalidade única e irrepetível\, além do tempo que todos nós compartilhamos”\, continuam. “Mais recentemente\, a física dos campos (eletromagnéticos\, gravitacionais) mostra que a realidade em sua dimensão mais elementar existe como uma relação\, e depende de modelos de probabilidade que regulam saltos orbitais\, giros nucleares. Um princípio de exclusão para algumas partículas (férmions) sustenta que partículas idênticas na forma como giram não podem compartilhar o mesmo estado quântico. Os campos elementares da realidade são sistemas de fusão e fissão\, acoplamento e distância\, emaranhamento e incerteza para os quais a antiga teoria dos afetos pode servir como metáfora”. \nPara Luis Pérez-Oramas e o núcleo curatorial da Nara Roesler\, na temporalidade específica inaugurada pelos artistas e suas obras\, se “conjugam exclusão e afeto\, memória e mente”. Giros e Afetos\, Arte Brasileira 1983-1995 determina “um parêntese para aproximações e distanciamentos”\, propõem.
URL:https://artequeacontece.com.br/evento/giros-e-afetos-arte-brasileira-1983-1995-na-nara-roesler/
LOCATION:Nara Roesler\, Av. Europa\, 655 - Jardim Europa\, São Paulo\, SP\, Brasil
CATEGORIES:São Paulo
ATTACH;FMTTYPE=image/png:https://artequeacontece.com.br/wp-content/uploads/2024/10/44830_at_flaviofreire_low_4.png
END:VEVENT
END:VCALENDAR