BEGIN:VCALENDAR
VERSION:2.0
PRODID:-//Arte Que Acontece - ECPv6.15.20//NONSGML v1.0//EN
CALSCALE:GREGORIAN
METHOD:PUBLISH
X-WR-CALNAME:Arte Que Acontece
X-ORIGINAL-URL:https://artequeacontece.com.br
X-WR-CALDESC:Eventos para Arte Que Acontece
REFRESH-INTERVAL;VALUE=DURATION:PT1H
X-Robots-Tag:noindex
X-PUBLISHED-TTL:PT1H
BEGIN:VTIMEZONE
TZID:America/Sao_Paulo
BEGIN:STANDARD
TZOFFSETFROM:-0300
TZOFFSETTO:-0300
TZNAME:-03
DTSTART:20240101T000000
END:STANDARD
END:VTIMEZONE
BEGIN:VEVENT
DTSTART;TZID=America/Sao_Paulo:20251007T100000
DTEND;TZID=America/Sao_Paulo:20260111T180000
DTSTAMP:20260419T122948
CREATED:20251010T162638Z
LAST-MODIFIED:20251010T162638Z
UID:65520-1759831200-1768154400@artequeacontece.com.br
SUMMARY:"Gilbert & George: 21ST CENTURY PICTURES" na Hayward Gallery
DESCRIPTION:Gilbert and George. Imagens da instalação. 2025. Cortesia da Hayward Gallery.\nEsta exposição apresenta a trajetória artística de Gilbert & George\, destacando novas obras criadas desde o início do milênio. \nCom títulos ousados ​​e de uma única palavra\, cada obra explora normas e tabus sociais\, abrangendo o mundano e o ilícito\, com sua arte desafiando os limites do gosto e da propriedade. \n21ST CENTURY PICTURES apresenta séries importantes como NEW HORNY PICTURES (2001)\, THE LONDON PICTURES (2011)\, THE BEARD PICTURES (2016) e THE CORPSING PICTURES (2022)\, explorando temas como esperança\, medo\, sexo\, religião\, corrupção e morte. \nNomeada pelo The Guardian e pelo The Telegraph como uma das principais exposições de arte para visitar no outono de 2025. \n  \n  \n  \n  \n  \n  \n  \n  \n  \n  \n  \n  \n 
URL:https://artequeacontece.com.br/evento/gilbert-george-21st-century-pictures-na-hayward-gallery/
LOCATION:Hayward Gallery\, Hayward Gallery\, Southbank Centre\, Belvedere Rd\, Londres\, Reino unido
CATEGORIES:Londres
ATTACH;FMTTYPE=image/avif:https://artequeacontece.com.br/wp-content/uploads/2025/10/Mark-Blower-251004-Gilbert-and-George-Hayward-0012-Edit.avif
END:VEVENT
END:VCALENDAR