BEGIN:VCALENDAR
VERSION:2.0
PRODID:-//Arte Que Acontece - ECPv6.15.20//NONSGML v1.0//EN
CALSCALE:GREGORIAN
METHOD:PUBLISH
X-WR-CALNAME:Arte Que Acontece
X-ORIGINAL-URL:https://artequeacontece.com.br
X-WR-CALDESC:Eventos para Arte Que Acontece
REFRESH-INTERVAL;VALUE=DURATION:PT1H
X-Robots-Tag:noindex
X-PUBLISHED-TTL:PT1H
BEGIN:VTIMEZONE
TZID:America/Sao_Paulo
BEGIN:STANDARD
TZOFFSETFROM:-0300
TZOFFSETTO:-0300
TZNAME:-03
DTSTART:20230101T000000
END:STANDARD
END:VTIMEZONE
BEGIN:VEVENT
DTSTART;TZID=America/Sao_Paulo:20240125T100000
DTEND;TZID=America/Sao_Paulo:20240328T180000
DTSTAMP:20260422T072646
CREATED:20240216T144251Z
LAST-MODIFIED:20240216T144257Z
UID:46454-1706176800-1711648800@artequeacontece.com.br
SUMMARY:Gerhard Richter na David Zwirner Londres
DESCRIPTION:Gerhard Richter\, 11.8.2023 (3)\, 2023 (detalhe)\n\n\n\nDavid Zwirner apresenta uma exposição de obras novas e recentes do renomado artista alemão Gerhard Richter na localização da galeria na rua Grafton\, 24\, em Londres. Esta é a primeira apresentação do trabalho de Richter em Londres desde o anúncio de sua representação em dezembro de 2022 e segue a estreia recente do artista na David Zwirner em Nova York na primavera de 2023. \n\n\n\nEsta instalação expande a investigação contínua de Richter sobre a fixidez da percepção e reafirma seu compromisso inabalável com as possibilidades formais e conceituais da abstração. Destacam-se centralmente três das celebradas pinturas abstratas do artista\, feitas nos anos que antecederam sua decisão de afastar-se da tinta a óleo e voltar-se para o desenho e a instalação com crescente dedicação. Um grupo expansivo de novas obras em papel – algumas feitas com tinta ou lápis\, outras com uma combinação dos dois – ilumina a urgência e a proeminência recém-descobertas que Richter tem atribuído ao método e à técnica no desenho.
URL:https://artequeacontece.com.br/evento/gerhard-richter-na-david-zwirner-londres/
LOCATION:David Zwirner\, 24 Grafton St London\, Londres\, Inglaterra\, Reino unido
CATEGORIES:Londres
ATTACH;FMTTYPE=image/jpeg:https://artequeacontece.com.br/wp-content/uploads/2024/02/Gerhard-Richter.jpg
END:VEVENT
END:VCALENDAR