BEGIN:VCALENDAR
VERSION:2.0
PRODID:-//Arte Que Acontece - ECPv6.15.20//NONSGML v1.0//EN
CALSCALE:GREGORIAN
METHOD:PUBLISH
X-WR-CALNAME:Arte Que Acontece
X-ORIGINAL-URL:https://artequeacontece.com.br
X-WR-CALDESC:Eventos para Arte Que Acontece
REFRESH-INTERVAL;VALUE=DURATION:PT1H
X-Robots-Tag:noindex
X-PUBLISHED-TTL:PT1H
BEGIN:VTIMEZONE
TZID:America/Sao_Paulo
BEGIN:STANDARD
TZOFFSETFROM:-0300
TZOFFSETTO:-0300
TZNAME:-03
DTSTART:20230101T000000
END:STANDARD
END:VTIMEZONE
BEGIN:VEVENT
DTSTART;TZID=America/Sao_Paulo:20240831T100000
DTEND;TZID=America/Sao_Paulo:20250202T180000
DTSTAMP:20260422T093251
CREATED:20240829T154005Z
LAST-MODIFIED:20240829T191018Z
UID:50650-1725098400-1738519200@artequeacontece.com.br
SUMMARY:"Gabriel Massan: Terceiro Mundo\, a dimensão descoberta" na Pinacoteca Contemporânea
DESCRIPTION:Créditos: Terceiro Mundo – a dimensão descoberta. Cortesia do artista e Serpentine.\n\n\n\n\nEm “Terceiro Mundo – a dimensão descoberta”\, a galeria expositiva do edifício Pina Contemporânea se transforma no universo imersivo criado pelo artista Gabriel Massan\, com suas esculturas\, desníveis e texturas que remetem à experiência de dentro das telas. \n“Terceiro Mundo – a dimensão descoberta”\, projeto desenvolvido em colaboração com a Serpentine Galleries\, é uma exposição imersiva concebida a partir de uma perspectiva decolonial\, de teorias queer e de estratégias descentralizadas em tecnologia. No projeto\, o artista Gabriel Massan constrói um jogo de videogame ambientado em um universo fantástico que\, a partir de uma narração colaborativa de história\, desafia o conceito colonial de “exploração” e convoca o público a repensar suas ações no mundo. \nNa mostra\, visitantes podem escolher entre as quatros estações de jogos para começarem a jornada pelo jogo Terceiro Mundo ou podem permanecer no espaço para assistir a experiência dos jogadores em tempo real\, por meio de cinco telas no espaço expositivo – como em canais dedicados a transmissão ao vivo de jogos. \nA ESTRUTURA DO JOGO \nO primeiro nível do jogo é Igba Tingbo\, que em língua iorubá significa “longo prazo”. Caracterizado pelo trabalho da artista e psicóloga clínica Castiel Vitorino Brasileiro\, a experiência nessa etapa enfoca o modo como o jogador se relaciona com a “alteridade”. Sòfo\, que significa “Vazio” em Iorubá\, é o segundo nível para onde os jogadores são enviados como Agente do QG. \nCada nível foi criado em colaboração com artistas e pensadores\, que contribuíram na construção de diálogos\, textos e narrativas\, emprestando inclusive suas vozes aos personagens. Participaram LYZZA\, Castiel Vitorino Brasileiro\, Novíssimo Edgar e Ventura Profana\, estando os três últimos incluídos na programação cultural que acontece no museu no 2º semestre de 2024. \nO mundo foi criado em colaboração com o artista e rapper Novíssimo Edgar\, a partir da sua vivência em São Paulo\, sua cidade natal.
URL:https://artequeacontece.com.br/evento/gabriel-massan-terceiro-mundo-a-dimensao-descoberta-na-pinacoteca-contemporanea/
LOCATION:Pinacoteca Luz\, Av. Tiradentes\, 273 – Luz\, São Paulo\, SP
CATEGORIES:São Paulo
ATTACH;FMTTYPE=image/jpeg:https://artequeacontece.com.br/wp-content/uploads/2024/08/H03_4.0136-1.jpeg
END:VEVENT
END:VCALENDAR