BEGIN:VCALENDAR
VERSION:2.0
PRODID:-//Arte Que Acontece - ECPv6.15.20//NONSGML v1.0//EN
CALSCALE:GREGORIAN
METHOD:PUBLISH
X-WR-CALNAME:Arte Que Acontece
X-ORIGINAL-URL:https://artequeacontece.com.br
X-WR-CALDESC:Eventos para Arte Que Acontece
REFRESH-INTERVAL;VALUE=DURATION:PT1H
X-Robots-Tag:noindex
X-PUBLISHED-TTL:PT1H
BEGIN:VTIMEZONE
TZID:America/Sao_Paulo
BEGIN:STANDARD
TZOFFSETFROM:-0300
TZOFFSETTO:-0300
TZNAME:-03
DTSTART:20230101T000000
END:STANDARD
END:VTIMEZONE
BEGIN:VEVENT
DTSTART;TZID=America/Sao_Paulo:20240301T100000
DTEND;TZID=America/Sao_Paulo:20240721T170000
DTSTAMP:20260422T072037
CREATED:20240401T171351Z
LAST-MODIFIED:20240401T171745Z
UID:47294-1709287200-1721581200@artequeacontece.com.br
SUMMARY:"Future Minded: New Works in the Collection" nos Harvard Art Museums
DESCRIPTION:Future Minded destaca uma seleção de obras adquiridas nos últimos anos que exemplificam a visão e as estratégias de aquisição dos Museus de Arte de Harvard. Quase todas estão em exibição pela primeira vez. \n\n\n\nOs museus estão comprometidos em adquirir arte que amplie a variedade de artistas e culturas representadas nas coleções; que leve a prática museológica a uma compreensão mais nuance tanto das histórias quanto das questões contemporâneas; e que ultrapasse limites e abrace a experimentação. Muitas das obras em exibição são de artistas vivos\, uma área de crescimento focado para os museus. \n\n\n\nMontada em duas galerias adjacentes\, a exposição apresenta uma variedade de desenhos\, fotografias\, gravuras\, pinturas e esculturas que abrangem séculos e continentes. As obras são de aproximadamente 30 artistas\, incluindo Jean (Hans) Arp\, Edward Mitchell Bannister\, Willie Cole\, Pietro Damini\, Svenja Deininger\, Jeffrey Gibson\, Baldwin Lee\, Ana Mendieta\, Lucia Moholy\, Toyin Ojih Odutola\, Noriko Saitō\, Melissa Shook\, Jane Yang-D’Haene\, e muitos outros. \n\n\n\nOrganizada por Soyoung Lee\, Curadora-Chefe Landon e Lavinia Clay; com Jackson Davidow\, Bolsista Curatorial de Fotografia da Família John R. e Barbara Robinson\, e através de consultas próximas e contribuições de curadores e bolsistas em várias divisões e conservadores no Centro Straus de Conservação e Estudos Técnicos.
URL:https://artequeacontece.com.br/evento/future-minded-new-works-in-the-collection-nos-harvard-art-museums/
LOCATION:Harvard Art Museums\, 32 Quincy St Mid-Cambridge\, Cambridge\, Massachusetts\, Estados Unidos
CATEGORIES:Boston
ATTACH;FMTTYPE=image/jpeg:https://artequeacontece.com.br/wp-content/uploads/2024/03/T.-W.-Nieuwenhuis-Gold-Carps-1894.jpg
END:VEVENT
END:VCALENDAR