BEGIN:VCALENDAR
VERSION:2.0
PRODID:-//Arte Que Acontece - ECPv6.15.20//NONSGML v1.0//EN
CALSCALE:GREGORIAN
METHOD:PUBLISH
X-WR-CALNAME:Arte Que Acontece
X-ORIGINAL-URL:https://artequeacontece.com.br
X-WR-CALDESC:Eventos para Arte Que Acontece
REFRESH-INTERVAL;VALUE=DURATION:PT1H
X-Robots-Tag:noindex
X-PUBLISHED-TTL:PT1H
BEGIN:VTIMEZONE
TZID:America/Sao_Paulo
BEGIN:STANDARD
TZOFFSETFROM:-0300
TZOFFSETTO:-0300
TZNAME:-03
DTSTART:20230101T000000
END:STANDARD
END:VTIMEZONE
BEGIN:VEVENT
DTSTART;TZID=America/Sao_Paulo:20240125T140000
DTEND;TZID=America/Sao_Paulo:20240325T190000
DTSTAMP:20260422T054431
CREATED:20250127T143149Z
LAST-MODIFIED:20250127T143149Z
UID:60634-1706191200-1711393200@artequeacontece.com.br
SUMMARY:"Funk Arte & Resistência" no Complexo Cultural Funarte
DESCRIPTION:Divulgação\n\n\n\n\nA partir de 25 de janeiro\, São Paulo celebrará a cultura periférica e um de seus principais ritmos com a exposição Funk Arte & Resistência\, no Pátio do Complexo Cultural Funarte. O projeto contemplado pelo Programa Funarte Aberta tem entrada gratuita. \nA PerifaCon\, referência nacional em engajamento e democratização da cultura Nerd e Geek nas periferias\, ocupa o centro com esta mostra em homenagem ao Funk Paulista\, reunindo mais de 30 obras de artistas de diversas quebras. Na abertura\, os visitantes poderão prestigiar as obras e conversar com artistas residentes e convidados\, como Hiago Bezerra\, Homem Saudade³ e Caodenado\, conhecendo mais sobre o processo criativo por trás das criações. \nA exposição segue até 25 de março e é fruto de uma residência artística promovida pela PerifaCon no início do ano de 2024 que proporcionou a nove jovens das periferias de São Paulo uma imersão em técnicas de artes visuais e na experiência do movimento funk. O debate proposto por esses artistas emergentes\, promover o intercâmbio de vivências\,o combate à discriminação do funk como gênero musical e apresenta a periferia como produtora de arte.
URL:https://artequeacontece.com.br/evento/funk-arte-resistencia-no-complexo-cultural-funarte/
LOCATION:Complexo Cultural Funarte SP\, Alameda Nothmann\, 1058\, São Paulo\, SP\, Brasil
CATEGORIES:São Paulo
ATTACH;FMTTYPE=image/jpeg:https://artequeacontece.com.br/wp-content/uploads/2025/01/baea0c43-8ef4-40a6-b85e-23f5427d6537.jpg
END:VEVENT
END:VCALENDAR