BEGIN:VCALENDAR
VERSION:2.0
PRODID:-//Arte Que Acontece - ECPv6.15.20//NONSGML v1.0//EN
CALSCALE:GREGORIAN
METHOD:PUBLISH
X-WR-CALNAME:Arte Que Acontece
X-ORIGINAL-URL:https://artequeacontece.com.br
X-WR-CALDESC:Eventos para Arte Que Acontece
REFRESH-INTERVAL;VALUE=DURATION:PT1H
X-Robots-Tag:noindex
X-PUBLISHED-TTL:PT1H
BEGIN:VTIMEZONE
TZID:America/Sao_Paulo
BEGIN:STANDARD
TZOFFSETFROM:-0300
TZOFFSETTO:-0300
TZNAME:-03
DTSTART:20230101T000000
END:STANDARD
END:VTIMEZONE
BEGIN:VEVENT
DTSTART;TZID=America/Sao_Paulo:20240827T140000
DTEND;TZID=America/Sao_Paulo:20241005T190000
DTSTAMP:20260422T054432
CREATED:20240829T190517Z
LAST-MODIFIED:20240829T190517Z
UID:50684-1724767200-1728154800@artequeacontece.com.br
SUMMARY:"Fulminantes" na ArteFASAM Galeria
DESCRIPTION:Julia Pereira\, Os nao vividos\, 2023. Cortesia ArteFASAM\n\n\n\n\nA exposição “Fulminantes”\, com curadoria de Ana Avelar\, reúne um conjunto de obras que explora a ambiguidade das formas e a conexão sensorial com o espectador. Contando com a participação das artistas Ana Kesselring\, Dora Smek\, Julia Pereira\, Juliana Cerqueira Leite\, Mariana Manhães e Renata Pedrosa\, a mostra apresenta trabalhos que sugerem fragmentos de corpos humanos e não-humanos\, mas que desafiam a certeza sobre sua verdadeira natureza. \nAs obras expostas\, apesar de abstratas\, estabelecem uma forte relação com a experiência sensorial\, tocando em aspectos profundos da existência humana. Como destacado pela curadora Ana Avelar\, esta é uma exposição para “ver e sentir”\, pois provoca o público de maneira intuitiva e instigante.
URL:https://artequeacontece.com.br/evento/fulminantes-na-artefasam-galeria/
LOCATION:ArteFASAM\, Rua Brigadeiro Galvão\, 990 - Barra Funda\, São Paulo\, SP\, Brasil
CATEGORIES:São Paulo
ATTACH;FMTTYPE=image/jpeg:https://artequeacontece.com.br/wp-content/uploads/2024/08/JuliaPereira_Os-nao-vividos_2023_Oleo-e-pastel-oleoso-sobre-tela_80x120cm-1-1.jpg
END:VEVENT
END:VCALENDAR