BEGIN:VCALENDAR
VERSION:2.0
PRODID:-//Arte Que Acontece - ECPv6.15.20//NONSGML v1.0//EN
CALSCALE:GREGORIAN
METHOD:PUBLISH
X-WR-CALNAME:Arte Que Acontece
X-ORIGINAL-URL:https://artequeacontece.com.br
X-WR-CALDESC:Eventos para Arte Que Acontece
REFRESH-INTERVAL;VALUE=DURATION:PT1H
X-Robots-Tag:noindex
X-PUBLISHED-TTL:PT1H
BEGIN:VTIMEZONE
TZID:America/Sao_Paulo
BEGIN:STANDARD
TZOFFSETFROM:-0300
TZOFFSETTO:-0300
TZNAME:-03
DTSTART:20230101T000000
END:STANDARD
END:VTIMEZONE
BEGIN:VEVENT
DTSTART;TZID=America/Sao_Paulo:20240426T100000
DTEND;TZID=America/Sao_Paulo:20240525T180000
DTSTAMP:20260422T072152
CREATED:20240423T155117Z
LAST-MODIFIED:20240423T155119Z
UID:48338-1714125600-1716660000@artequeacontece.com.br
SUMMARY:“From the Gods” de Allen Jones na Almine Rech
DESCRIPTION:Allen Jones\, Moving Picture (3d elements) (detalhe)\, 2021 © Allen Jones – Cortesia do Artista e Almine Rech. Foto: Leon Chew\n\n\n\nHá um ar de desafio exuberante permeando as obras que Allen Jones fez desde 2017\, período abrangido por esta exposição\, quando ele completou oitenta anos. Essas pinturas\, esculturas e híbridos entre os dois\, que incluem algumas direções novas e ousadas\, constituem não apenas uma recusa vigorosa em recuar de sua busca ao longo da vida por imagens eróticas centradas em corpos femininos\, mas também um senso de celebração e admiração por ele ainda estar aqui. Como os recortes de papel surpreendentemente frescos feitos por seu herói Matisse durante a década que antecedeu sua morte\, essa florescência tardia exibe uma vitalidade juvenil\, invenção e alegria abandonada que facilmente combinam com a inovadora Pop Art na qual Jones apostou sua reputação e lugar na história da arte no início dos anos 1960. \n\n\n\n— Marco Livingstone\, crítico de arte
URL:https://artequeacontece.com.br/evento/from-the-gods-de-allen-jones-na-almine-rech/
LOCATION:Almine Rech Paris – Turenne\, 64 rue de Turenne\, Paris\, França
CATEGORIES:Paris
ATTACH;FMTTYPE=image/jpeg:https://artequeacontece.com.br/wp-content/uploads/2024/04/AJ0038-ALLEN-JONES-2021_102582.jpg
END:VEVENT
END:VCALENDAR