BEGIN:VCALENDAR
VERSION:2.0
PRODID:-//Arte Que Acontece - ECPv6.15.20//NONSGML v1.0//EN
CALSCALE:GREGORIAN
METHOD:PUBLISH
X-WR-CALNAME:Arte Que Acontece
X-ORIGINAL-URL:https://artequeacontece.com.br
X-WR-CALDESC:Eventos para Arte Que Acontece
REFRESH-INTERVAL;VALUE=DURATION:PT1H
X-Robots-Tag:noindex
X-PUBLISHED-TTL:PT1H
BEGIN:VTIMEZONE
TZID:America/Sao_Paulo
BEGIN:STANDARD
TZOFFSETFROM:-0300
TZOFFSETTO:-0300
TZNAME:-03
DTSTART:20210101T000000
END:STANDARD
END:VTIMEZONE
BEGIN:VEVENT
DTSTART;TZID=America/Sao_Paulo:20221022T080000
DTEND;TZID=America/Sao_Paulo:20230409T170000
DTSTAMP:20260422T103451
CREATED:20230201T234640Z
LAST-MODIFIED:20230216T133820Z
UID:36613-1666425600-1681059600@artequeacontece.com.br
SUMMARY:Frank Bowling no MFA
DESCRIPTION:“O modernismo também me pertenceu”. Assim declarou em 1966 o artista britânico nascido na Guiana Frank Bowling\, quando se mudou de Londres para Nova York\, impelido pela ambição de deixar sua marca na pintura moderna. “Frank Bowling’s Americas” é a primeira exposição dedicada aos anos transformadores que o artista passou nos EUA\, e a primeira grande pesquisa de seu trabalho por uma instituição americana em mais de quatro décadas. A principal residência de Bowling nos EUA foi Nova York\, de 1966 a 1975. Nessa época\, ele entrou em contato com uma cena artística vibrante e tumultuada\, com pintura abstrata em uma ascensão explosiva\, debates acalorados em torno da identidade cultural e prática artística negra e o slogan de Stokely Carmichael “Black Power” emanando do Sul. Ao longo da década\, Bowling escreveu copiosamente para revistas de arte\, ocupou vários cargos de ensino (inclusive no Massachusetts College of Art)\, expôs amplamente (inclusive numa individual no Whitney Museum of American Art\, em 1971)\, e em 1969 fez a curadoria de “5+1”\, uma exposição de cinco importantes artistas abstratos afro-americanos (Melvin Edwards\, Daniel LaRue Johnson\, Al Loving\, Jack Whitten e William T. Williams) mais o próprio Bowling na Stony Brook University\, Nova York. Suas experiências nos EUA catalisaram profundas mudanças em sua pintura\, exploradas aqui através de mais de 30 obras. A exposição reúne uma gama de obras poderosas do Bowling\, entre pinturas de inspiração pop\, telas monumentais e coloridas que evocam extensões oceânicas e exemplos pouco vistos de pinturas tecnicamente pioneiras do artista na área da abstração. Proporcionando pela primeira vez um encontro com esse capítulo crucial da carreira de Bowling\, “Frank Bowling’s Americas” oferece uma contribuição essencial para uma compreensão mais transcultural e global da arte moderna. A exposição será exibida depois de seu encerramento em Boston no San Francisco Museum of Modern Art de 13 de maio a 10 de setembro de 2023. \n\n\n\n\n\n\n\n\n\n\n\n\nServiço de bilheteria
URL:https://artequeacontece.com.br/evento/frank-bowling-no-mfa/
LOCATION:MFA\, 465 Huntington Ave Fenway–Kenmore\, Boston\, Massachusetts\, Estados Unidos
CATEGORIES:Boston
ATTACH;FMTTYPE=image/jpeg:https://artequeacontece.com.br/wp-content/uploads/2023/02/69333410-48519242.jpeg
END:VEVENT
END:VCALENDAR