BEGIN:VCALENDAR
VERSION:2.0
PRODID:-//Arte Que Acontece - ECPv6.15.20//NONSGML v1.0//EN
CALSCALE:GREGORIAN
METHOD:PUBLISH
X-WR-CALNAME:Arte Que Acontece
X-ORIGINAL-URL:https://artequeacontece.com.br
X-WR-CALDESC:Eventos para Arte Que Acontece
REFRESH-INTERVAL;VALUE=DURATION:PT1H
X-Robots-Tag:noindex
X-PUBLISHED-TTL:PT1H
BEGIN:VTIMEZONE
TZID:America/Sao_Paulo
BEGIN:STANDARD
TZOFFSETFROM:-0300
TZOFFSETTO:-0300
TZNAME:-03
DTSTART:20230101T000000
END:STANDARD
END:VTIMEZONE
BEGIN:VEVENT
DTSTART;TZID=America/Sao_Paulo:20240112T100000
DTEND;TZID=America/Sao_Paulo:20240224T180000
DTSTAMP:20260419T085854
CREATED:20240206T183324Z
LAST-MODIFIED:20240206T183329Z
UID:46232-1705053600-1708797600@artequeacontece.com.br
SUMMARY:"Four Works: Accountability" de Dara Birnbaum na Marian Goodman Gallery
DESCRIPTION:A Marian Goodman Gallery apresenta uma nova exposição de Dara Birnbaum\, que se concentra em obras da década de 1990 que se envolvem diretamente com eventos políticos\, explorando legados de dissidência e investigando os códigos e gestos através dos quais a política é vivida. Abrangendo mídias variadas\, as obras incluem uma instalação de vários canais\, vídeo de canal único\, impressões em pigmento arquivadas e impressões UV em Duratrans. A exposição retoma o interesse de Birnbaum na memória histórica\, no discurso público e na mutabilidade das imagens. Transmission Tower: Sentinel (1992)\, encomendada pela primeira vez pela documenta IX e concebido logo após a primeira Guerra do Golfo\, utiliza a estrutura da telecomunicação (a torre de transmissão Rohn) e justapõe três formas de discurso político. Usando duas seções de uma torre Rohn como andaime de chão a teto para oito monitores de vídeo\, através dos quais imagens e som se sobrepõem e se chocam\, a instalação expõe a profunda imbricação entre mídia e militarismo\, entretenimento e política\, visibilidade e as possibilidades de protesto.
URL:https://artequeacontece.com.br/evento/four-works-accountability-de-dara-birnbaum-na-marian-goodman-gallery/
LOCATION:Marian Goodman Gallery\, 24 West 57th St\, Nova York\, Nova York\, Estados Unidos
CATEGORIES:Nova York
ATTACH;FMTTYPE=image/jpeg:https://artequeacontece.com.br/wp-content/uploads/2024/02/Dara-Birnbaum-Transmission-Tower-Sentinel-1992.jpg
END:VEVENT
END:VCALENDAR