BEGIN:VCALENDAR
VERSION:2.0
PRODID:-//Arte Que Acontece - ECPv6.15.20//NONSGML v1.0//EN
CALSCALE:GREGORIAN
METHOD:PUBLISH
X-WR-CALNAME:Arte Que Acontece
X-ORIGINAL-URL:https://artequeacontece.com.br
X-WR-CALDESC:Eventos para Arte Que Acontece
REFRESH-INTERVAL;VALUE=DURATION:PT1H
X-Robots-Tag:noindex
X-PUBLISHED-TTL:PT1H
BEGIN:VTIMEZONE
TZID:America/Sao_Paulo
BEGIN:STANDARD
TZOFFSETFROM:-0300
TZOFFSETTO:-0300
TZNAME:-03
DTSTART:20250101T000000
END:STANDARD
END:VTIMEZONE
BEGIN:VEVENT
DTSTART;VALUE=DATE:20260328
DTEND;VALUE=DATE:20260329
DTSTAMP:20260419T122805
CREATED:20260323T215327Z
LAST-MODIFIED:20260323T215327Z
UID:70128-1774656000-1774742399@artequeacontece.com.br
SUMMARY:"Fotografia Moderna Brasileira" na Mario Cohen
DESCRIPTION:A Galeria Mario Cohen apresenta a exposição A Fotografia Moderna Brasileira\, que destaca artistas ligados ao Foto Cine Clube Bandeirante (FCCB)\, grupo fundamental para a consolidação da fotografia moderna no Brasil. Reúne obras de Ademar Manarini\, Eduardo Salvatore\, Gaspar Gasparian\, Geraldo de Barros\, German Lorca\, Gertrudes Altschul\, José Oiticica Filho\, Paulo Pires e Thomaz Farkas. \nCom curadoria de Mario Cohen e texto de Marcella Marer\, a exposição evidencia o papel da chamada Escola Paulista na renovação da linguagem fotográfica. Segundo a curadora\, “os Bandeirantes foram interlocutores fundamentais na internacionalização da fotografia brasileira”\, ressaltando a importância histórica e estética desses artistas. \nA mostra integra o Arte Circuito Jardim Europa\, iniciativa que reúne galerias do bairro com programação simultânea e horário estendido.
URL:https://artequeacontece.com.br/evento/fotografia-moderna-brasileira-na-mario-cohen/
LOCATION:Galeria Mario Cohen\, Rua Capitão Francisco Padilha\, 69 - Jardim Europa\, São Paulo\, SP\, Brasil
CATEGORIES:São Paulo
ATTACH;FMTTYPE=image/jpeg:https://artequeacontece.com.br/wp-content/uploads/2026/03/unnamed-1-1-e1774302681152.jpg
END:VEVENT
END:VCALENDAR