BEGIN:VCALENDAR
VERSION:2.0
PRODID:-//Arte Que Acontece - ECPv6.15.20//NONSGML v1.0//EN
CALSCALE:GREGORIAN
METHOD:PUBLISH
X-WR-CALNAME:Arte Que Acontece
X-ORIGINAL-URL:https://artequeacontece.com.br
X-WR-CALDESC:Eventos para Arte Que Acontece
REFRESH-INTERVAL;VALUE=DURATION:PT1H
X-Robots-Tag:noindex
X-PUBLISHED-TTL:PT1H
BEGIN:VTIMEZONE
TZID:America/Sao_Paulo
BEGIN:STANDARD
TZOFFSETFROM:-0300
TZOFFSETTO:-0300
TZNAME:-03
DTSTART:20240101T000000
END:STANDARD
END:VTIMEZONE
BEGIN:VEVENT
DTSTART;TZID=America/Sao_Paulo:20250723T110000
DTEND;TZID=America/Sao_Paulo:20250823T190000
DTSTAMP:20260419T212014
CREATED:20250723T191844Z
LAST-MODIFIED:20250723T191844Z
UID:63859-1753268400-1755975600@artequeacontece.com.br
SUMMARY:"Fome do Cão" de Ian Salamente na Zipper Galeria
DESCRIPTION:Ian Salamente\, “Take me to your afago”\, 2025. Crédito: Estúdio Quadrante/Thiago Almeida\nA Zipper Galeria inaugura no dia 23 de julho\, às 19h\, a exposição Fome do Cão\, primeira individual de Ian Salamente em São Paulo.  Com curadoria de Rayssa Veríssimo\, que também foi curadora de “Do sal ao estreito” \, realizada em 2025 no Centro Cultural Correios. A mostra reúne um conjunto de pinturas que exploram os atravessamentos do cotidiano urbano a partir das margens da cidade. Entre as obras\, estão incluídos trabalhos inéditos e uma pintura premiada no 16° Salão dos Artistas Sem Galeria. \nNascido em Cabo Frio e atualmente vivendo no Rio de Janeiro\, Ian tem como ponto de partida os símbolos do cotidiano urbano. Casas protegidas por grades e muros\, bueiros\, toldos\, antenas parabólicas e camisas de futebol de várzea ganham destaque em suas telas. Em sua obra\, o que seria considerado insignificante ou irrelevante assume protagonismo e revela as contradições sociais da vida na cidade. \nA fome\, no título da exposição\, ultrapassa o campo do literal e aponta para as múltiplas urgências que atravessam a experiência urbana: por afeto\, sustento\, permanência e reconhecimento. \nAinda sobre a produção de Ian Salamente em “Fome do Cão” a  curadora Rayssa Veríssimo\, completa: \nOs cachorros que Ian pinta vivem na rua onde ele mora\, e ele frequentemente os observa enquanto se alimentam dos restos do comércio local\, ao final do dia. Retratados com marcas vermelhas\, esses cachorros estabelecem uma relação  com a iconografia de São Sebastião\, símbolo de resistência contra a fome\, representado pelas flechas em seu corpo. O cachorro\, então\, se torna uma figura de resistência que\, assim como o santo\, carrega no corpo os sinais de um sacrifício diário\, mas que insiste em sobreviver aos moinhos da cidade. \nO artista participou do 16º Salão dos Artistas Sem Galeria\, realizado pela Zipper Galeria no início de 2025\,  que tem como objetivo avaliar\, exibir e divulgar a produção de artistas plásticos que não tenham representações por qualquer galeria de arte de São Paulo e foi convidado a participar do programa da galeria a partir dessa seleção.
URL:https://artequeacontece.com.br/evento/fome-do-cao-de-ian-salamente-na-zipper-galeria/
LOCATION:Zipper Galeria\, R. Estados Unidos\, 1494 - Jardim América\, São Paulo\, SP\, Brasil
CATEGORIES:São Paulo
ATTACH;FMTTYPE=image/jpeg:https://artequeacontece.com.br/wp-content/uploads/2025/07/unnamed-11-1.jpg
END:VEVENT
END:VCALENDAR