BEGIN:VCALENDAR
VERSION:2.0
PRODID:-//Arte Que Acontece - ECPv6.15.20//NONSGML v1.0//EN
CALSCALE:GREGORIAN
METHOD:PUBLISH
X-WR-CALNAME:Arte Que Acontece
X-ORIGINAL-URL:https://artequeacontece.com.br
X-WR-CALDESC:Eventos para Arte Que Acontece
REFRESH-INTERVAL;VALUE=DURATION:PT1H
X-Robots-Tag:noindex
X-PUBLISHED-TTL:PT1H
BEGIN:VTIMEZONE
TZID:America/Sao_Paulo
BEGIN:STANDARD
TZOFFSETFROM:-0300
TZOFFSETTO:-0300
TZNAME:-03
DTSTART:20220101T000000
END:STANDARD
END:VTIMEZONE
BEGIN:VEVENT
DTSTART;TZID=America/Sao_Paulo:20230318T110000
DTEND;TZID=America/Sao_Paulo:20230415T190000
DTSTAMP:20260422T085526
CREATED:20230320T193640Z
LAST-MODIFIED:20230411T225022Z
UID:39390-1679137200-1681585200@artequeacontece.com.br
SUMMARY:"Fetiche: Retrato" na Nonada Zona Sul
DESCRIPTION:A Nonada de Copacabana apresenta a exposição Fetiche: retrato\, com trabalhos dos artistas Alan Oju (1985\, Santo André\, SP)\, André Barion (1996\, São Paulo)\, Andy Villela (1994\, Rio de Janeiro)\, Bruno Alves (1998\, São Paulo)\, Emerson Freire (1995\, São Paulo)\, Gustavo Magalhães (1998\, Goioerê\, Paraná)\, Irineia Rosa Nunes da Silva (1949\, povoado quilombola do Muquém\, Alagoas)\, Lucas Almeida (1995\, São Paulo)\, Leoa (Renata Costa\, 1997\, Rio de Janeiro)\, Melissa Oliveira (2000\, Rio de Janeiro)\, Marlon Amaro(1987\, Niterói)\,Miguel Afa (1987\, Rio de Janeiro)\, Siwaju (1997\, São Paulo). O texto crítico é do fotógrafo Bob Wolfenson\, reconhecido por seus retratos. Os trabalhos são em grande parte pinturas\, com diversos materiais\, e ainda esculturas e fotografias. “A exposição faz um breve recorte sobre como o retrato\, que é um dos mais antigos sujeitos da história da arte\, encontra ressonância nesses artistas que têm dialéticas tão distintas\, mas que trabalham sobre a representação humana e seus desdobramentos contemporâneos”\, diz Paulo Azeco\, um dos sócios da galeria inaugurada em novembro de 2022. “Vivemos em uma sociedade fetichizada\, onde tudo é elevado\, maximizado. Num momento onde o retrato\, representado pela compulsão pela autoimagem e selfies\, toma lugar daquele outrora idealizado\, o fetiche não é mais aquele enquanto prática. O erotismo está em se mostrar\, mesmo que por filtros e camadas de mentira. O mundo está refém do espelho\, o Narciso deixa o consultório do psicólogo e alcança a grande massa”\, comenta. Em seu texto de apresentação\, Bob Wolfenson diz: “A ideia de que um fotógrafo possa captar a alma ou a essência mais verdadeira da figura humana\, para mim\, é uma tolice\, mas povoa  o imaginário  de grande parte dos críticos e apreciadores de retratos. Não acho que ninguém tenha este poder de ir a essas profundezas\, e\, mais que isso: eu\, como fotógrafo\, a última coisa que me vem à cabeça é  tentar  traduzir a essência ou a alma  de alguém. Não tenho esta pretensão. […] O retratista atua no comando de poses e/ou coreografias\, num  fluxo constante de movimentos\, gestos e silêncios\, até que sinta ter exaurido as possibilidades de uma situação dada\, o que\, ao final\, depende de  um senso de cooperação e confiança recíproca  entre seu sujeito e ele. De todo modo\, alcançar um bom retrato é quase um milagre\, tais os aspectos dissonantes que pairam como um campo de força sobre o momento de fazê-lo\, sejam eles: a expectativa do fotografado\, o desejo do fotógrafo\, o aparato técnico (câmeras\, luzes) e os pedidos de quem  contratou  o trabalho (quando há  terceiros envolvidos)\, todos fatores de intimidação para quem está diante e detrás de uma câmera. No entanto é nessa arena plena de intensidade que se dá a mágica do ‘milagre’”.
URL:https://artequeacontece.com.br/evento/fetiche-retrato-na-nonada-zona-sul/
LOCATION:Nonada Zona Sul\, loja A 24 R. Aires Saldanha\, Rio de Janeiro\, Rio de Janeiro\, Brasil
CATEGORIES:Rio de Janeiro
ATTACH;FMTTYPE=image/jpeg:https://artequeacontece.com.br/wp-content/uploads/2023/03/Leoa-Bar-dos-cornos-cpx-2022-v2.jpg
END:VEVENT
END:VCALENDAR