BEGIN:VCALENDAR
VERSION:2.0
PRODID:-//Arte Que Acontece - ECPv6.15.20//NONSGML v1.0//EN
CALSCALE:GREGORIAN
METHOD:PUBLISH
X-WR-CALNAME:Arte Que Acontece
X-ORIGINAL-URL:https://artequeacontece.com.br
X-WR-CALDESC:Eventos para Arte Que Acontece
REFRESH-INTERVAL;VALUE=DURATION:PT1H
X-Robots-Tag:noindex
X-PUBLISHED-TTL:PT1H
BEGIN:VTIMEZONE
TZID:America/Sao_Paulo
BEGIN:STANDARD
TZOFFSETFROM:-0300
TZOFFSETTO:-0300
TZNAME:-03
DTSTART:20220101T000000
END:STANDARD
END:VTIMEZONE
BEGIN:VEVENT
DTSTART;TZID=America/Sao_Paulo:20230617T100000
DTEND;TZID=America/Sao_Paulo:20230729T190000
DTSTAMP:20260422T072555
CREATED:20230616T181607Z
LAST-MODIFIED:20230616T181615Z
UID:41533-1686996000-1690657200@artequeacontece.com.br
SUMMARY:Fernanda Galvão na Casa Triângulo
DESCRIPTION:A exposição O Tempo Era Como Este apresenta uma visão fascinante de um mundo transformado após a humanidade desaparecer e a vida continuar em meio às profundezas do oceano. A artista Fernanda Galvão\, por meio de suas pinturas\, nos transporta para um universo onde a natureza assume o controle e os lugares perdem seus nomes. É através da observação das atmosferas e das características climáticas desses espaços que podemos compreender e estabelecer relações entre eles. As obras de Galvão retratam uma variedade de ambientes\, desde regiões submersas de tons azulados até matas abertas e dunas de areia. Essas paisagens são constantemente moldadas pela ação do vento\, das correntes marítimas e dos tremores da terra\, criando uma transformação contínua. As pinturas capturam a interação entre os elementos naturais e as plantas\, revelando a complexidade e a beleza desse novo mundo. Em O Tempo Era Como Este\, Fernanda Galvão desempenha um papel semelhante ao personagem George Orr\, do romance A Curva do Sonho de Ursula K. Le Guin. Assim como Orr tinha o poder de alterar o passado\, presente e futuro através de seus sonhos\, a artista retrata as transformações desse universo em constante mudança\, agora impulsionadas pelas interações entre os seres vivos remanescentes. Através das pinturas de Galvão\, somos transportados para um mundo pós-humanidade\, onde as colinas conversam e sonham em cair no mar. Essas obras são os únicos registros desse universo em transformação\, proporcionando uma visão poética e intrigante do poder da natureza e da capacidade de adaptação dos seres vivos. O Tempo Era Como Este nos convida a refletir sobre nosso lugar no mundo e a reconhecer a força e a fragilidade da natureza. É uma exposição que nos leva a questionar nossa relação com o ambiente ao nosso redor e a apreciar a beleza e a complexidade de um mundo em contínua mudança.
URL:https://artequeacontece.com.br/evento/fernanda-galvao-na-casa-triangulo/
LOCATION:Casa Triângulo\, Rua Estados Unidos\, 1324\, São Paulo\, SP\, Brasil
CATEGORIES:São Paulo
ATTACH;FMTTYPE=image/jpeg:https://artequeacontece.com.br/wp-content/uploads/2023/06/casa-triangulo_fernanda-galvao-1-1.jpg
END:VEVENT
END:VCALENDAR