BEGIN:VCALENDAR
VERSION:2.0
PRODID:-//Arte Que Acontece - ECPv6.15.20//NONSGML v1.0//EN
CALSCALE:GREGORIAN
METHOD:PUBLISH
X-WR-CALNAME:Arte Que Acontece
X-ORIGINAL-URL:https://artequeacontece.com.br
X-WR-CALDESC:Eventos para Arte Que Acontece
REFRESH-INTERVAL;VALUE=DURATION:PT1H
X-Robots-Tag:noindex
X-PUBLISHED-TTL:PT1H
BEGIN:VTIMEZONE
TZID:America/Sao_Paulo
BEGIN:STANDARD
TZOFFSETFROM:-0300
TZOFFSETTO:-0300
TZNAME:-03
DTSTART:20220101T000000
END:STANDARD
END:VTIMEZONE
BEGIN:VEVENT
DTSTART;TZID=America/Sao_Paulo:20230602T140000
DTEND;TZID=America/Sao_Paulo:20230624T190000
DTSTAMP:20260422T055726
CREATED:20230602T201357Z
LAST-MODIFIED:20230602T201400Z
UID:41197-1685714400-1687633200@artequeacontece.com.br
SUMMARY:Fernanda Figueiredo na OMA Galeria
DESCRIPTION:A OMA Galeria apresenta Passado\, passado\, futuro\, exposição individual de Fernanda Figueiredo com curadoria de Paula Borghi. As oito pinturas inéditas apresentadas foram inspiradas pelos principais acontecimentos políticos do país nos últimos tempos\, culminando nos ataques à Praça dos Três Poderes em 8 de janeiro deste ano. As obras são parte da série País do futuro\, iniciada pela artista em 2020\, ainda durante o governo Bolsonaro. Partindo de notícias de jornal\, televisão e lives no YouTube\, Figueiredo coloca as obras de arte\, elementos arquitetônicos\, artefatos\, tapeçarias e outros objetos localizados nos prédios governamentais de Brasília como testemunhas oculares da história que ali é construída. Nas pinturas mais recentes\, a artista se debruça sobre os acontecimentos de 8 de janeiro\, quando os edifícios do Supremo Tribunal Federal\, do Palácio do Planalto e do Congresso Nacional foram invadidos e depredados. Durante os ataques\, diversas obras de arte foram danificadas – como resultado\, além de espectadoras\, a artista coloca algumas obras também como vítimas: caso de Programa de proteçāo à testemunha\, que retrata As Mulatas de Di Cavalcanti\, pintura que recebeu facadas dos invasores. Fernanda pretende provocar o pensamento crítico sobre questões políticas e sociais do país. Entre as referências retiradas das obras danificadas pelos invasores\, estão muitos elementos ligados a religiões de matriz africana\, personagens negras e do sexo feminino\, promovendo reflexões sobre o racismo\, o machismo e o preconceito religioso tão presentes no governo Bolsonaro. Através da pintura\, a artista cria uma memória coletiva da história política do país\, mais perene que as notícias de jornal. Segundo Fernanda\, “Com a série ‘País do Futuro’\, ofereço ao público registros sensíveis dessa história para começar uma conversa\, para pensar junto e para não perder a memória.”
URL:https://artequeacontece.com.br/evento/fernanda-figueiredo-na-oma-galeria/
LOCATION:OMA Galeria\, Rua França Pinto\, 1100\, Loja 2 - Vila Mariana\, São Paulo\, SP
CATEGORIES:São Paulo
ATTACH;FMTTYPE=image/jpeg:https://artequeacontece.com.br/wp-content/uploads/2023/06/Snapinsta.app_351183035_232285409545833_3748696160146696525_n_1080-1-1.jpg
END:VEVENT
END:VCALENDAR