BEGIN:VCALENDAR
VERSION:2.0
PRODID:-//Arte Que Acontece - ECPv6.15.20//NONSGML v1.0//EN
CALSCALE:GREGORIAN
METHOD:PUBLISH
X-WR-CALNAME:Arte Que Acontece
X-ORIGINAL-URL:https://artequeacontece.com.br
X-WR-CALDESC:Eventos para Arte Que Acontece
REFRESH-INTERVAL;VALUE=DURATION:PT1H
X-Robots-Tag:noindex
X-PUBLISHED-TTL:PT1H
BEGIN:VTIMEZONE
TZID:America/Sao_Paulo
BEGIN:STANDARD
TZOFFSETFROM:-0300
TZOFFSETTO:-0300
TZNAME:-03
DTSTART:20220101T000000
END:STANDARD
END:VTIMEZONE
BEGIN:VEVENT
DTSTART;TZID=America/Sao_Paulo:20230527T090000
DTEND;TZID=America/Sao_Paulo:20230730T170000
DTSTAMP:20260419T131408
CREATED:20230526T221235Z
LAST-MODIFIED:20231002T205126Z
UID:41068-1685178000-1690736400@artequeacontece.com.br
SUMMARY:"Fé\, Engenho e Arte" no Museu de Arte Sacra de São Paulo
DESCRIPTION:O Museu de Arte Sacra de São Paulo (MAS.SP) inaugura a exposição Fé\, Engenho e Arte – Os Três FRANCISCOS: mestres escultores na capitania das Minas do ouro\, sob curadoria de Fabio Magalhães e museografia de Haron Cohen\, onde exibe 65 obras dos mestres do barroco brasileiro: Antônio Francisco Lisboa (aka Aleijadinho)\, Francisco Vieira Servas e Francisco Xavier De Brito. Na mostra\, com abertura no dia 27 de maio às 11hs\, o MAS.SP homenageia os expoentes das expressões barroca e rococó no Brasil\, do sec. XVIII\, além de estabelecer um paralelo entre as obras desses três artistas que se faz fundamental para a compreensão e apreciação da arte sacra barroca brasileira. A exposição destaca esculturas e talhas\, oferecendo ao público uma experiência imersiva e enriquecedora.
URL:https://artequeacontece.com.br/evento/fe-engenho-e-arte-no-museu-de-arte-sacra/
LOCATION:Museu de Arte Sacra\, Avenida Tiradentes\, 676 – Luz\, São Paulo\, SP\, Brasil
CATEGORIES:São Paulo
ATTACH;FMTTYPE=image/jpeg:https://artequeacontece.com.br/wp-content/uploads/2023/05/museu-de-arte-sacra-2-1-1.jpg
END:VEVENT
END:VCALENDAR