BEGIN:VCALENDAR
VERSION:2.0
PRODID:-//Arte Que Acontece - ECPv6.15.20//NONSGML v1.0//EN
CALSCALE:GREGORIAN
METHOD:PUBLISH
X-WR-CALNAME:Arte Que Acontece
X-ORIGINAL-URL:https://artequeacontece.com.br
X-WR-CALDESC:Eventos para Arte Que Acontece
REFRESH-INTERVAL;VALUE=DURATION:PT1H
X-Robots-Tag:noindex
X-PUBLISHED-TTL:PT1H
BEGIN:VTIMEZONE
TZID:America/Sao_Paulo
BEGIN:STANDARD
TZOFFSETFROM:-0300
TZOFFSETTO:-0300
TZNAME:-03
DTSTART:20240101T000000
END:STANDARD
END:VTIMEZONE
BEGIN:VEVENT
DTSTART;TZID=America/Sao_Paulo:20250312T090000
DTEND;TZID=America/Sao_Paulo:20250410T160000
DTSTAMP:20260419T122646
CREATED:20250313T154831Z
LAST-MODIFIED:20250313T154831Z
UID:61561-1741770000-1744300800@artequeacontece.com.br
SUMMARY:"Favela é Giro" no Centro Cultural Castelo Zenker
DESCRIPTION:Dimas de Sant’ Anna\, “Além do alcance” – Divulgação\nO Museu das Favelas\, instituição da Secretaria da Cultura\, Economia e Indústria Criativas do Estado de São Paulo\, sob gestão do idg – Instituto de Desenvolvimento e Gestão e a EDP\, empresa que atua em todos os segmentos do setor elétrico\, anunciam a chegada da exposição itinerante ‘Favela é Giro’ a Ferraz de Vasconcelos\, com apoio da Secretaria de Cultura e Turismo do município. A mostra\, que já passou por Goiânia\, Vitória e São Sebastião\, estará em cartaz de 12 de março a 10 de abril\, gratuitamente\, de terça a sábado\, das 9h às 16h\, no Centro Cultural Castelo Zenker\, que após reforma reabre as portas junto com a mostra. \nFavela é Giro busca desmistificar os estereótipos associados às favelas\, apresentando-as como espaços de criatividade\, resistência e inovação\, por meio de obras que transitam entre a fotografia\, a xilogravura e o audiovisual. “Queremos mostrar ao público a diversidade cultural das favelas brasileiras\, reconhecendo a potência cultural e a riqueza de narrativas desses territórios. Essa exposição é um convite para refletir sobre as imagens que construímos e reafirmar a favela como um espaço de criação\, identidade e transformação social”\, afirma Natália Cunha\, diretora do Museu das Favelas. \nA exposição adota uma linha curatorial voltada para a arte contemporânea\, explorando representações visuais que promovem o senso de pertencimento e o reconhecimento das favelas enquanto centros de identidade cultural. Cada obra questiona a visão tradicional que se tem delas\, desafiando o público a refletir: Qual imagem você tem da favela? \nCom curadoria de Bruna Gregório foram selecionadas\, ao todo\, 20 obras que celebram as favelas brasileiras\, explorando suas complexidades\, belezas e desafios. O time de pesquisa e co-curadoria é composto pela artista e pesquisadora Xica\, de Goiânia\, pela fotógrafa Ana Luzes\, de Vitória\, e pelo rapper\, pesquisador musical\, ator e professor Brenalta MC. \nPara Dominic Schmal\, diretor de ESG da EDP na América do Sul\, o projeto Favela é Giro contribui para ampliar a percepção que as pessoas têm sobre as favelas\, unindo artistas\, tecnologia e conexões humanas. “Estamos expondo as obras de artistas locais\, contribuindo para dar visibilidade à arte periférica e para impulsionar a economia criativa\, além de levar arte e cultura para a população que vive na nossa área de atuação\, que é uma das nossas prioridades”\, reforça. \n“Receber a exposição Favela é Giro no Centro Cultural Castelo Zenker é uma grande satisfação. Estamos contentes em reafirmar a potência cultural das favelas e proporcionar ao público a oportunidade de reconhecer a diversidade\, a criatividade e a identidade desses territórios”\, comenta Ana Rosa Augusto\, Secretária de Cultura e Turismo de Ferraz de Vasconcelos. \nA exposição já foi vista por mais de dois mil visitantes durante sua passagem em Goiânia\, Vitória e São Sebastião. A itinerância\, que chega em Ferraz de Vasconcelos\, penúltima parada desta jornada\, terminará em São Paulo\, no Museu das Favelas\, que atualmente está com a exposição Racionais MC’s: O Quinto Elemento. \nA exposição conta com a participação de diversos artistas de diferentes regiões do Brasil. De Goiânia\, estão presentes as obras do Batalhão das Gravadeiras\, João Ferré\, Lucas Borobo\, Mayara Varalho e Marcelo Ramalho. Do Espírito Santo\, participam Iaiá Rocha\, Viviane Nascimento\, Ara Poty Mirī Txapya (Dayanne Guarany)\, De Santanna (Dimas) e Meuri Ribeiro. Representando a região de São Sebastião\, estão Brenalta MC\, Eumarlei\, Swell Nobrega\, Juvenal Pereira e Jorge Mesquita. De Ferraz\, participam Fabrício\, Micke Tranbiks\, Anubis\, além da dupla Silas Nascimento e Lucas Bezerra.
URL:https://artequeacontece.com.br/evento/favela-e-giro-no-centro-cultural-castelo-zenker/
LOCATION:Centro Cultural Castelo Zenker\, R. do Castelo\, 25 - Jardim do Castelo\, Ferraz de Vasconcelos\, São Paulo\, SP\, Brazil
CATEGORIES:São Paulo
ATTACH;FMTTYPE=image/webp:https://artequeacontece.com.br/wp-content/uploads/2025/03/FavelaEGiro-1024x681-1.jpg.webp
END:VEVENT
END:VCALENDAR