BEGIN:VCALENDAR
VERSION:2.0
PRODID:-//Arte Que Acontece - ECPv6.15.20//NONSGML v1.0//EN
CALSCALE:GREGORIAN
METHOD:PUBLISH
X-WR-CALNAME:Arte Que Acontece
X-ORIGINAL-URL:https://artequeacontece.com.br
X-WR-CALDESC:Eventos para Arte Que Acontece
REFRESH-INTERVAL;VALUE=DURATION:PT1H
X-Robots-Tag:noindex
X-PUBLISHED-TTL:PT1H
BEGIN:VTIMEZONE
TZID:America/Sao_Paulo
BEGIN:STANDARD
TZOFFSETFROM:-0300
TZOFFSETTO:-0300
TZNAME:-03
DTSTART:20240101T000000
END:STANDARD
END:VTIMEZONE
BEGIN:VEVENT
DTSTART;TZID=America/Sao_Paulo:20250826T110000
DTEND;TZID=America/Sao_Paulo:20251026T200000
DTSTAMP:20260422T053329
CREATED:20250827T013804Z
LAST-MODIFIED:20250827T013804Z
UID:64403-1756206000-1761508800@artequeacontece.com.br
SUMMARY:"Exteriores" de Bob Wolfenson na Unibes Cultural
DESCRIPTION:Fotografia feita na Inglaterra\, em 2012 – Imagem: Bob Wolfenson/Divulgação\n\n\n\n\nNo dia 26 de agosto de 2025\, a Unibes Cultural apresenta ao público a exposição Exteriores\, do consagrado fotógrafo brasileiro Bob Wolfenson. Composta por um conjunto de 53 fotografias\, de média e grandes dimensões\, a mostra apresenta uma crônica visual da diversidade humana\, revelando corpos em movimento\, expressões passageiras e instantes únicos capturados nas ruas de diferentes cidades ao redor do mundo. \nAo longo de cinco décadas de carreira\, Wolfenson consolidou-se como um dos maiores nomes da fotografia brasileira\, conhecido por seus retratos de personalidades\, imagens de moda e produções em estúdio. Em Exteriores\, ele percorre o caminho oposto ao controle do ambiente fechado e mergulha na imprevisibilidade do espaço público\, de tudo que lhe é “exterior”. O olhar do fotógrafo se volta para o acaso\, para o fluxo das cidades e seus habitantes anônimos – pessoas atravessando faixas\, distraídas em pensamentos ou em contato breve com a câmera. \nNas palavras do artista\, fotografar do lado de fora é um exercício de intuição: “quase sempre\, o fotógrafo não saberá previamente o que se tornará alvo de seu interesse quando estiver em campo”. Assim como um escritor que anota ideias em um caderno\, Wolfenson transforma sua câmera em ferramenta de observação e descoberta\, em um gesto que combina o instinto do viajante com a curiosidade do cronista. \nExteriores é um fragmento de uma história\, da construção e investigação de um vocabulário fotográfico. Trata-se do processo de autodecodificação do personagem-fotógrafo e do percurso narrativo que ele\, intuitivamente\, traçou ao longo da vida. Esses recortes de memória atravessam as entranhas das cidades\, percorrem ruas sem itinerário aparente\, transitam por naturezas lúdicas\, desertos imaginários e cenas antagônicas\, resultando em estados de intensa carga emocional e certa vulnerabilidade. \nCuradoria: Bob Wolfenson e Ana Tonezzer \nProjeto expográfico: André Vainer
URL:https://artequeacontece.com.br/evento/exteriores-de-bob-wolfenson-na-unibes-cultural/
LOCATION:Unibes Cultural\, R. Oscar Freire\, 2500 - Sumaré\, São Paulo\, SP\, Brasil
CATEGORIES:São Paulo
ATTACH;FMTTYPE=image/jpeg:https://artequeacontece.com.br/wp-content/uploads/2025/08/17534721086883dc6c9df87_1753472108_3x2_lg-1.jpg
END:VEVENT
END:VCALENDAR