BEGIN:VCALENDAR
VERSION:2.0
PRODID:-//Arte Que Acontece - ECPv6.15.20//NONSGML v1.0//EN
CALSCALE:GREGORIAN
METHOD:PUBLISH
X-WR-CALNAME:Arte Que Acontece
X-ORIGINAL-URL:https://artequeacontece.com.br
X-WR-CALDESC:Eventos para Arte Que Acontece
REFRESH-INTERVAL;VALUE=DURATION:PT1H
X-Robots-Tag:noindex
X-PUBLISHED-TTL:PT1H
BEGIN:VTIMEZONE
TZID:America/Sao_Paulo
BEGIN:STANDARD
TZOFFSETFROM:-0300
TZOFFSETTO:-0300
TZNAME:-03
DTSTART:20220101T000000
END:STANDARD
END:VTIMEZONE
BEGIN:VEVENT
DTSTART;TZID=America/Sao_Paulo:20230819T110000
DTEND;TZID=America/Sao_Paulo:20230929T190000
DTSTAMP:20260419T085854
CREATED:20230821T134005Z
LAST-MODIFIED:20230908T224858Z
UID:43374-1692442800-1696014000@artequeacontece.com.br
SUMMARY:"Exploratorius" de Elaine Pessoa na Galeria Mario Cohen
DESCRIPTION:O projeto Exploratorius\, da artista visual Elaine Pessoa\, interroga a influência colonialista nas “imagens do futuro”\, incluindo aquelas produzidas pela inteligência artificial. Partindo especialmente das descrições dos diários dos naturalistas Spix e Martius\, na obra Viagens pelo Brasil de 1817-1820\, e de um conjunto de pesquisas em arquivos e coleções portuguesas\, acervos pessoais e diversas experimentações com programas de inteligência artificial\, a artista explora imageticamente como o olhar e o pensamento visual\, que intermedeiam os modos de conhecer a história da ciência e política contemporânea das imagens\, seguem predominantemente pautados por filtros e regimes colonialistas. O futuro das imagens atrelado ao chamado colonialismo de dados é evidenciado pela artista\, por meio de uma pesquisa apurada e de um experimentalismo estático que inclui programas de lA\, pintura\, desenho e a própria fotografia direta. \n\n\n\nO resultado do trabalho é apresentado em três séries: lamínuli IA s\, logi IA s e paisa IA gens. Sendo duas delas\, logi lA s e paisa IA gens mostradas de forma inédita nessa exposição. Paisa IA gens\, por exemplo\, mostram que a colonização estética e imaginária de países colônias\, como o Brasil\, reservam ainda hoje em suas representações tropicais de matas\, florestas e distintos biomas brasileiros\, cores meramente atribuídas a paletas europeias de tons não vívidos\, atualizando nesse colorismo o poder da estética de um pensamento colonial que impôs suas lógicas de exploração. Essa visão hegemônica e sua violência estética e política é ressaltada no trabalho artístico de Elaine Pessoa\, a partir também da ideia de natureza estetizada como sublime\, pitoresca\, regida essencialmente pelas descobertas minerais\, de plantas nativas e animais classificados quase sempre como exóticos sem nenhuma atribuição ao pertencimento do território ou à ancestralidade e às histórias vinculadas à terra e aos povos originários. \n\n\n\nEsse tema é desvelado pela artista em uma série de imagens intitulada Logi IA s. Neste conjunto de trabalhos\, encontram-se plantas cartográficas\, esquemas e mapas das tecnologias dos viajantes\, como rosa dos ventos\, cartas marítimas\, além de desenhos e cadernos de campo dos viajantes zoólogos e botânicos\, retomados de arquivos históricos e bibliotecas coloniais. Esses materiais são revisados pela artista com intervenções de manchas e outros preenchimentos metálicos em alusão aos minerais que foram durante uma longa história colonial – e ainda hoje – usurpados de maneira violenta a partir de inúmeras invasões. A artista propõe com essas interferências nesta série repensar as invasões sofridas e atestar a necessidade de revistar essa história. Exploratorius procura enfatizar a necessidade de decolonização da categoria chamada natureza ou paisagem brasileira como forma de repensar as relações de poder entre humanos e não-humanos\, especialmente considerando as desigualdades socioambientais decorrentes dos processos de exploração e apropriação ilegal desde o período colonial até o século 21.
URL:https://artequeacontece.com.br/evento/exploratorius-de-elaine-pessoa-na-galeria-mario-cohen/
LOCATION:Galeria Mario Cohen\, Rua Capitão Francisco Padilha\, 69 - Jardim Europa\, São Paulo\, SP\, Brasil
CATEGORIES:São Paulo
ATTACH;FMTTYPE=image/jpeg:https://artequeacontece.com.br/wp-content/uploads/2023/08/unnamed-1-1.jpg
END:VEVENT
END:VCALENDAR