BEGIN:VCALENDAR
VERSION:2.0
PRODID:-//Arte Que Acontece - ECPv6.15.20//NONSGML v1.0//EN
CALSCALE:GREGORIAN
METHOD:PUBLISH
X-WR-CALNAME:Arte Que Acontece
X-ORIGINAL-URL:https://artequeacontece.com.br
X-WR-CALDESC:Eventos para Arte Que Acontece
REFRESH-INTERVAL;VALUE=DURATION:PT1H
X-Robots-Tag:noindex
X-PUBLISHED-TTL:PT1H
BEGIN:VTIMEZONE
TZID:America/Sao_Paulo
BEGIN:STANDARD
TZOFFSETFROM:-0300
TZOFFSETTO:-0300
TZNAME:-03
DTSTART:20240101T000000
END:STANDARD
END:VTIMEZONE
BEGIN:VEVENT
DTSTART;TZID=America/Sao_Paulo:20250322T100000
DTEND;TZID=America/Sao_Paulo:20250727T180000
DTSTAMP:20260419T122817
CREATED:20250321T150430Z
LAST-MODIFIED:20250321T165002Z
UID:61693-1742637600-1753639200@artequeacontece.com.br
SUMMARY:"Estás vendo coisas – Bárbara Wagner e Benjamin de Burca" na Pinacoteca Luz
DESCRIPTION:Bárbara Wagner & Benjamin de Burca\,\n\n\n\n\nNa Sala de Vídeo do edifício Pina Luz\, Bárbara Wagner e Benjamin de Burca apresentam a obra Estás vendo coisas (2016). \nApresentado na 32ª Bienal de São Paulo\, Estás Vendo Coisas / You Are Seeing Things investiga a paisagem social e profissional da música Brega no Recife. A indústria dos videoclipes atua como catalisadora de uma ideia de futuro marcada pelo desejo de sucesso\, moldado pelas dinâmicas do capitalismo. O filme observa esse universo em que a autorregulação e a manipulação da imagem desempenham um papel central na construção da voz\, do status e da identidade de uma nova geração de artistas populares. \nEscrito e encenado por participantes do Brega\, Estás Vendo Coisas acompanha dois personagens principais — o cabeleireiro e MC Porck e a bombeira e cantora Dayana Paixão — em seus trajetos entre o estúdio e o palco. Com uma estrutura próxima à de um musical\, o filme se desenrola no interior de uma casa noturna\, onde gestos são entrelaçados a canções sobre amor\, fidelidade\, sucesso e riqueza. Retirada de seu contexto mediatizado\, a linguagem do Brega é desconstruída e rearranjada\, revelando o vocabulário do espetáculo como uma nova forma de trabalho.
URL:https://artequeacontece.com.br/evento/estas-vendo-coisas-barbara-wagner-e-benjamin-de-burca-na-pinacoteca-luz/
LOCATION:Pinacoteca Luz\, Av. Tiradentes\, 273 – Luz\, São Paulo\, SP
CATEGORIES:São Paulo
ATTACH;FMTTYPE=image/jpeg:https://artequeacontece.com.br/wp-content/uploads/2025/03/Estas-vendo-Coisas-1.jpg
END:VEVENT
END:VCALENDAR