BEGIN:VCALENDAR
VERSION:2.0
PRODID:-//Arte Que Acontece - ECPv6.15.20//NONSGML v1.0//EN
CALSCALE:GREGORIAN
METHOD:PUBLISH
X-WR-CALNAME:Arte Que Acontece
X-ORIGINAL-URL:https://artequeacontece.com.br
X-WR-CALDESC:Eventos para Arte Que Acontece
REFRESH-INTERVAL;VALUE=DURATION:PT1H
X-Robots-Tag:noindex
X-PUBLISHED-TTL:PT1H
BEGIN:VTIMEZONE
TZID:America/Sao_Paulo
BEGIN:STANDARD
TZOFFSETFROM:-0300
TZOFFSETTO:-0300
TZNAME:-03
DTSTART:20240101T000000
END:STANDARD
END:VTIMEZONE
BEGIN:VEVENT
DTSTART;TZID=America/Sao_Paulo:20250613T140000
DTEND;TZID=America/Sao_Paulo:20250711T190000
DTSTAMP:20260422T071629
CREATED:20250612T030849Z
LAST-MODIFIED:20250612T030946Z
UID:63188-1749823200-1752260400@artequeacontece.com.br
SUMMARY:"Estado de Engano" de Céu Isatto no lapa\, Lapa
DESCRIPTION:Céu Isatto\, “Zoológico” – Divulgação\nNo dia 13 de junho\, sexta-feira\, abrimos no Lapa\, lapa a exposição ESTADO DE ENGANO\, a primeira individual de Céu Isatto (RS) na cidade de São Paulo. Com curadoria de Alice Granada\, a exposição traz uma retrospectiva da obra de Céu a partir de 2022\, incluindo trabalhos inéditos produzidos a partir de sua mudança para São Paulo em 2024. \nCéu Isatto é artista que pesquisa questões relacionadas desvio\, falha e tradução na relação entre imagem e linguagem. Trabalha e pesquisa diversos meios — pintura\, instalação\, performance\, vídeo\, escrita — a partir de referências da literatura\, cinema\, história da arte \, poesia e trocas de ateliê (ou curatoriais) com o intuito de ver onde se chega a partir desses campos de negociação: quão longe pode ir a partir de junções de elementos inicialmente díspares levados para longe de seus contextos originais. \nAo realizar esse processo de costura de significados\, símbolos e imagens — alternando entre desapego do improviso e obsessão metódica — e artista realiza análises\, recortes\, fermentações e articulações que entram em paralelo ao processo próprio de construção trans: aprender e decodificar e recodificar linguagens a fim de costurar uma linguagem e corpo próprio feito de retalhos; uma espécie de monstro de Frankenstein. \nJá participou de exposições em SELVA ( NY\, 2024 \, galeria GRUTA (SP\, 2022 e 2025)\, Espaço Cultural Funarte SP (SP\, 2023)\, MACRS (RS\, 2024)\, entre outros.  
URL:https://artequeacontece.com.br/evento/estado-de-engano-de-ceu-isatto-no-lapa-lapa/
LOCATION:lapa\, Lapa\, Rua Afonso Sardinha\, 326 - Lapa\, São Paulo\, SP\, Brasil
CATEGORIES:São Paulo
ATTACH;FMTTYPE=image/jpeg:https://artequeacontece.com.br/wp-content/uploads/2025/06/Zoologico_-1-1-1.jpg
END:VEVENT
END:VCALENDAR