BEGIN:VCALENDAR
VERSION:2.0
PRODID:-//Arte Que Acontece - ECPv6.15.20//NONSGML v1.0//EN
CALSCALE:GREGORIAN
METHOD:PUBLISH
X-WR-CALNAME:Arte Que Acontece
X-ORIGINAL-URL:https://artequeacontece.com.br
X-WR-CALDESC:Eventos para Arte Que Acontece
REFRESH-INTERVAL;VALUE=DURATION:PT1H
X-Robots-Tag:noindex
X-PUBLISHED-TTL:PT1H
BEGIN:VTIMEZONE
TZID:America/Sao_Paulo
BEGIN:STANDARD
TZOFFSETFROM:-0300
TZOFFSETTO:-0300
TZNAME:-03
DTSTART:20220101T000000
END:STANDARD
END:VTIMEZONE
BEGIN:VEVENT
DTSTART;TZID=America/Sao_Paulo:20231118T120000
DTEND;TZID=America/Sao_Paulo:20240113T180000
DTSTAMP:20260419T085153
CREATED:20231117T122826Z
LAST-MODIFIED:20231117T122833Z
UID:44782-1700308800-1705168800@artequeacontece.com.br
SUMMARY:"Esse ofício de rabiscar sobre as coisas dotempo exige que prestemos alguma atenção à natureza" de Maria Laet na A Gentil Carioca
DESCRIPTION:A Gentil Carioca apresenta Esse ofício de rabiscar sobre as coisas do tempo exige que prestemos alguma atenção à natureza\, a primeira exposição individual de Maria Laet em nossa sede de São Paulo. A abertura acontece no sábado\, 18 de novembro\, das 14h às 19h. \n\n\n\nRabiscar sobre as coisas do tempo\, se ver nos fenômenos da natureza\, na matéria das coisas e buscar esse espelhamento numa espécie de cambalhota poética é parte essencial do trabalho da artista. Especialmente nessa exposição\, que tem um jeito haikai\, Laet coloca em diálogo trabalhos que falam de movimento\, da passagem do tempo e da transformação da matéria; são rabiscos sobre as coisas do tempo (e sobre o tempo das coisas)\, olhando sempre para a natureza. \n\n\n\nO título da exposição é a primeira frase da crônica Fala Amendoeira\, de Carlos Drummond de Andrade. Na crônica\, o autor conversa com a amendoeira que fica em frente à sua casa\, enxergando nela o seu outono pessoal.
URL:https://artequeacontece.com.br/evento/esse-oficio-de-rabiscar-sobre-as-coisas-dotempo-exige-que-prestemos-alguma-atencao-a-natureza-de-maria-laet-na-a-gentil-carioca/
LOCATION:A Gentil Carioca – Higienópolis\, Travessa Dona Paula\, 108 – Higienópolis\, São Paulo\, São Paulo
CATEGORIES:São Paulo
ATTACH;FMTTYPE=image/jpeg:https://artequeacontece.com.br/wp-content/uploads/2023/11/Maria_Laet_Infinito_entre_pedras-2-1.jpg
END:VEVENT
END:VCALENDAR