BEGIN:VCALENDAR
VERSION:2.0
PRODID:-//Arte Que Acontece - ECPv6.15.20//NONSGML v1.0//EN
CALSCALE:GREGORIAN
METHOD:PUBLISH
X-WR-CALNAME:Arte Que Acontece
X-ORIGINAL-URL:https://artequeacontece.com.br
X-WR-CALDESC:Eventos para Arte Que Acontece
REFRESH-INTERVAL;VALUE=DURATION:PT1H
X-Robots-Tag:noindex
X-PUBLISHED-TTL:PT1H
BEGIN:VTIMEZONE
TZID:America/Sao_Paulo
BEGIN:STANDARD
TZOFFSETFROM:-0300
TZOFFSETTO:-0300
TZNAME:-03
DTSTART:20230101T000000
END:STANDARD
END:VTIMEZONE
BEGIN:VEVENT
DTSTART;TZID=America/Sao_Paulo:20241130T100000
DTEND;TZID=America/Sao_Paulo:20250308T180000
DTSTAMP:20260422T054409
CREATED:20241204T233400Z
LAST-MODIFIED:20241204T233400Z
UID:60156-1732960800-1741456800@artequeacontece.com.br
SUMMARY:"Espelhos d'água viva" no Solar dos Abacaxis
DESCRIPTION:Josi\, “Dos retornos: chão de molho e imbigos”\, 2023. Cortesia da artista e Mendes Wood DM. Foto: EstudioEmObra\n\n\n\n\nCom curadoria de Bernardo Mosqueira\, Catarina Duncan e Matheus Morani\, a exposição reúne obras de 12 artistas e coletivos: Alessandro Fracta\, Carlos Alfonso\, Isabela Prado\, Jonas Van e Juno B.\, Josi\, MAHKU\, Maria Thereza Alves\, Mariana Rocha\, Maya Quilolo\, Nadia Taquary\, Podeserdesligado e Zahy Tentehar. As criações refletem as conexões entre os sistemas aquáticos e a vida humana\, promovendo umolhar para a preservação dos recursos naturais e a valorização de saberes ancestrais quilombolas\, ribeirinhos e indígenas. \nA abertura contará com a performance “Através”\, de Isabela Prado\, no dia 30 de novembro\, e uma festa em parceria com o Festival Novas Frequências\, no dia 7 de dezembro\, celebrando o aniversário do Solar dos Abacaxis\, com a participação de Podeserdesligado\, Carmem Jaci\, Lyzza\, DJ Galo Preto e Marta Supernova. \nAs obras dialogam com a espiritualidade e a simbologia das águas como entidades  vivas\, como Oxum\, propondo uma reflexão sobre a nossa responsabilidade  coletiva em cuidar do mundo aquático. A exposição é um convite para imaginar novos caminhos de coabitação entre os seres humanos e o meio  ambiente\, num momento de urgência ecológica.
URL:https://artequeacontece.com.br/evento/espelhos-dagua-viva-no-solar-dos-abacaxis/
LOCATION:Solar dos Abacaxis\, Rua do Senado\, 48 – Centro\, Rio de Janeiro\, RJ\, Brasil
CATEGORIES:Rio de Janeiro
ATTACH;FMTTYPE=image/jpeg:https://artequeacontece.com.br/wp-content/uploads/2024/12/6TV3qvKW-1.jpeg
END:VEVENT
END:VCALENDAR