BEGIN:VCALENDAR
VERSION:2.0
PRODID:-//Arte Que Acontece - ECPv6.15.20//NONSGML v1.0//EN
CALSCALE:GREGORIAN
METHOD:PUBLISH
X-WR-CALNAME:Arte Que Acontece
X-ORIGINAL-URL:https://artequeacontece.com.br
X-WR-CALDESC:Eventos para Arte Que Acontece
REFRESH-INTERVAL;VALUE=DURATION:PT1H
X-Robots-Tag:noindex
X-PUBLISHED-TTL:PT1H
BEGIN:VTIMEZONE
TZID:America/Sao_Paulo
BEGIN:STANDARD
TZOFFSETFROM:-0300
TZOFFSETTO:-0300
TZNAME:-03
DTSTART:20220101T000000
END:STANDARD
END:VTIMEZONE
BEGIN:VEVENT
DTSTART;TZID=America/Sao_Paulo:20231019T100000
DTEND;TZID=America/Sao_Paulo:20231118T190000
DTSTAMP:20260421T233607
CREATED:20231024T130042Z
LAST-MODIFIED:20231024T130131Z
UID:44475-1697709600-1700334000@artequeacontece.com.br
SUMMARY:"Começar pelo chão" de Bruno Cançado na Galeria Silvia Cintra + Box4
DESCRIPTION:No dia 19 de outubro será inaugurada Começar pelo chão\, a primeira exposição individual de Bruno Cançado na galeria. A mostra exibirá 10 trabalhos – 4 esculturas de chão\, 5 de parede\, uma fotografia e um site specific que ocupará uma lateral inteira do espaço expositivo. A mostra é um recorte da produção do artista de 2012 até os dias de hoje. \n\n\n\nAs obras apresentadas surgem muitas vezes das investigações do artista sobre os materiais e a forma como estes se comportam em determinadas situações\, ou seja\, quando o peso do concreto parece dissipar\, ao ser vergado junto com tábuas de madeira\, ou ainda no momento que um galho suporta um bloco de tijolo. Esse jogo criado pelo artista\, altera a percepção de quem observa\, dando a entender que estamos perante algo ilusório. Um outro aspecto importante é a relação que os trabalhos têm com a arquitetura\, o espaço construído. \n\n\n\nSão fragmentos de colunas\, vigas\, pedaços de parede\, que dialogam com o seu entorno\, como se estabelecesse um paralelo entre o fazer da escultura e o fazer da construção. Dessa forma\, o artista nos leva a refletir sobre como surgiram e o sentido que os materiais e as técnicas\, como o concreto e o chapisco\, são vistos na nossa cultura.
URL:https://artequeacontece.com.br/evento/escada-palafita-de-iole-de-freitas-na-galeria-silvia-cintra-box4-2/
LOCATION:Galeria Silvia Cintra + Box4\, Rua das Acácias\, 104 – Gávea\, Rio de Janeiro\, RJ\, Brasil
CATEGORIES:Rio de Janeiro
ATTACH;FMTTYPE=image/jpeg:https://artequeacontece.com.br/wp-content/uploads/2023/10/vista-da-exposicao-2-scaled-880x0-c-default-1-1.jpg
END:VEVENT
END:VCALENDAR