BEGIN:VCALENDAR
VERSION:2.0
PRODID:-//Arte Que Acontece - ECPv6.15.20//NONSGML v1.0//EN
CALSCALE:GREGORIAN
METHOD:PUBLISH
X-WR-CALNAME:Arte Que Acontece
X-ORIGINAL-URL:https://artequeacontece.com.br
X-WR-CALDESC:Eventos para Arte Que Acontece
REFRESH-INTERVAL;VALUE=DURATION:PT1H
X-Robots-Tag:noindex
X-PUBLISHED-TTL:PT1H
BEGIN:VTIMEZONE
TZID:America/Sao_Paulo
BEGIN:STANDARD
TZOFFSETFROM:-0300
TZOFFSETTO:-0300
TZNAME:-03
DTSTART:20230101T000000
END:STANDARD
END:VTIMEZONE
BEGIN:VEVENT
DTSTART;TZID=America/Sao_Paulo:20240525T100000
DTEND;TZID=America/Sao_Paulo:20240720T190000
DTSTAMP:20260422T054419
CREATED:20240524T162527Z
LAST-MODIFIED:20240524T162530Z
UID:48858-1716631200-1721502000@artequeacontece.com.br
SUMMARY:"Ensaio sobre a Terra" na Simões de Assis
DESCRIPTION:Bené Fonteles\, Nadando no seco\, 2022\n\n\n\nA mais recente mostra na Simões de Assis de São Paulo\, “Ensaio sobre a Terra”\, conta com concepção de Thierry Freitas e reúne trabalhos que refletem sobre nosso tempo com base em investigações sobre clima\, flora\, fauna\, mitos\, relações interespécies ou através do uso de materiais orgânicos e biológicos. \n\n\n\nA coletiva tem como objetivo conectar representações ambientais\, simbólicas e culturais em torno das relações humanas com a Terra\, retratando epistemologias não hegemônicas e como elas proporcionam formas sustentáveis de lidar com a ecologia\, tanto física quanto mental. A seleção inclui artistas indígenas\, artistas ditos populares\, autodidatas e contemporâneos\, e preza pela multiplicidade de pontos de vista e experiências diante do meio-ambiente. 
URL:https://artequeacontece.com.br/evento/ensaio-sobre-a-terra-na-simoes-de-assis/
LOCATION:Simões de Assis Galeria de Arte\, Alameda Lorena\, 2.050 - Jardins\, São Paulo\, SP\, Brasil
CATEGORIES:São Paulo
ATTACH;FMTTYPE=image/jpeg:https://artequeacontece.com.br/wp-content/uploads/2024/05/Bene-Fonteles-Nadando-no-seco-2022.jpg
END:VEVENT
END:VCALENDAR