BEGIN:VCALENDAR
VERSION:2.0
PRODID:-//Arte Que Acontece - ECPv6.15.20//NONSGML v1.0//EN
CALSCALE:GREGORIAN
METHOD:PUBLISH
X-WR-CALNAME:Arte Que Acontece
X-ORIGINAL-URL:https://artequeacontece.com.br
X-WR-CALDESC:Eventos para Arte Que Acontece
REFRESH-INTERVAL;VALUE=DURATION:PT1H
X-Robots-Tag:noindex
X-PUBLISHED-TTL:PT1H
BEGIN:VTIMEZONE
TZID:America/Sao_Paulo
BEGIN:STANDARD
TZOFFSETFROM:-0300
TZOFFSETTO:-0300
TZNAME:-03
DTSTART:20240101T000000
END:STANDARD
END:VTIMEZONE
BEGIN:VEVENT
DTSTART;TZID=America/Sao_Paulo:20250927T100000
DTEND;TZID=America/Sao_Paulo:20251013T190000
DTSTAMP:20260422T053539
CREATED:20250929T005640Z
LAST-MODIFIED:20250929T005640Z
UID:65269-1758967200-1760382000@artequeacontece.com.br
SUMMARY:"Ensaio de tração" de Luiz Dolino na Galeria Contempo
DESCRIPTION:Luiz Dolino\, “Esfinge”\, 2014. Créditos: Divulgacão\nNo sábado\, dia 27 de setembro\, a Galeria Contempo inaugura “Ensaio de tração”\, individual do artista fluminense Luiz Dolino. Com mais de 50 anos de produção contínua\, Dolino consolidou uma linguagem singular dentro da tradição construtiva\, inserindo-se em um território onde razão e sensibilidade coexistem em linhas diagonais e geometrias turvas. Seu trabalho se destaca por uma abordagem poética da geometria\, na qual os campos chapados de cor — característicos de sua obra — operam como vetores desestabilizantes da definição de suas formas geométricas. \nA mostra\, que conta com curadoria de Gabriel San Martin\, apresenta mais de uma dezena de obras\, entre trabalhos inéditos e pinturas presentes no livro. Ao propor um diálogo entre diferentes momentos da carreira do artista\, reitera a continuidade de sua pesquisa formal na experimentação com a cor\, a linha e a construção espacial. \n“O termo ‘ensaio de tração’\, que intitula a mostra\, é um termo comum da engenharia mecânica que se refere ao teste de tensão-deformação que permite determinar propriedades mecânicas cruciais — como a resistência à tração e o módulo de elasticidade. Se a produção de Dolino é historicamente voltada ao interesse por composições capazes de desequilibrar a linha reta ao limite de uma estrutura que não falha\, a exposição apresenta um ângulo de leitura da produção do artista definido por uma lógica constante de ‘testar os limites’ do equilíbrio geométrico”\, diz o curador.  \nO livro “Inventário parcial” é um testemunho visual e afetivo da trajetória de Dolino. A publicação reúne cerca de 100 obras acompanhadas de textos críticos\, depoimentos e registros biográficos que ajudam a contextualizar a relevância de sua obra no panorama da arte abstrata no Brasil.
URL:https://artequeacontece.com.br/evento/ensaio-de-tracao-de-luiz-dolino-na-galeria-contempo/
LOCATION:Galeria Contempo\, Al. Gabriel Monteiro da Silva\, 1644\, São Paulo\, SP\, Brasil
CATEGORIES:São Paulo
ATTACH;FMTTYPE=image/png:https://artequeacontece.com.br/wp-content/uploads/2025/09/Esfinge_-2014-acrilica-sobre-tela-medindo-110x220-cm-1-1.png
END:VEVENT
END:VCALENDAR