BEGIN:VCALENDAR
VERSION:2.0
PRODID:-//Arte Que Acontece - ECPv6.15.20//NONSGML v1.0//EN
CALSCALE:GREGORIAN
METHOD:PUBLISH
X-WR-CALNAME:Arte Que Acontece
X-ORIGINAL-URL:https://artequeacontece.com.br
X-WR-CALDESC:Eventos para Arte Que Acontece
REFRESH-INTERVAL;VALUE=DURATION:PT1H
X-Robots-Tag:noindex
X-PUBLISHED-TTL:PT1H
BEGIN:VTIMEZONE
TZID:America/Sao_Paulo
BEGIN:STANDARD
TZOFFSETFROM:-0300
TZOFFSETTO:-0300
TZNAME:-03
DTSTART:20220101T000000
END:STANDARD
END:VTIMEZONE
BEGIN:VEVENT
DTSTART;TZID=America/Sao_Paulo:20230819T100000
DTEND;TZID=America/Sao_Paulo:20231007T190000
DTSTAMP:20260422T072257
CREATED:20230818T153236Z
LAST-MODIFIED:20230826T002712Z
UID:43315-1692439200-1696705200@artequeacontece.com.br
SUMMARY:"Enredo Imaginário" de Luiz Hermano na Galeria Lume
DESCRIPTION:O enredo\, na literatura e dramaturgia\, é a esfera de eventos no qual cada acontecimento afeta o próximo através do princípio de causa e efeito. A partir desta lei universal\, entende-se que tudo é interligado por fios herméticos que se entrelaçam e conectam o universo que ocorre ao nosso redor. O acaso não existe. Tomando a linha como objeto principal de criação\, Luiz Hermano nos convida a conhecer seu Enredo Imaginário\, individual a ser inaugurada dia 19 de agosto\, na Galeria Lume\, em São Paulo. \n\n\n\nCom texto curatorial de Theo Monteiro\, Hermano retoma sua produção dos anos 90\, onde as linhas de seus trabalhos\, inicialmente apresentadas em desenhos\, saem do papel e ganham tridimensionalidade em obras elaboradas em fio de cobre. A ressignificação da matéria sempre foi parte do DNA do artista\, que desde sua infância na Preaoca\, município de Cascavel no Ceará\, criava brinquedos a partir de objetos e materiais inusitados. Através do olhar e da imaginação\, Luiz nos transporta a seu mundo de sonho e nos convida a exercitar a própria observação\, aprofundando nossa percepção de seus traços que ora se apresentam como animais e pessoas\, ora grandes formas orgânicas\, permitindo que o visitante possa criar suas próprias histórias e interpretações. \n\n\n\nDando palco ao lúdico\, elemento sempre presente em seu trabalho\, Luiz Hermano tece à mão seus próprios universos\, trançando\, emaranhando e coordenando uma coreografia de loucura com lucidez\, diversas vezes unindo mundos\, já antes concebidos por ele\, e dando vida a novas histórias\, enredos e universos imaginários\, criando sentido em linhas espiraladas que se transmutam em obras\, num incessante ciclo de recuperação e perda.
URL:https://artequeacontece.com.br/evento/enredo-imaginario-de-luiz-hermano-na-galeria-lume/
LOCATION:Galeria Lume\, Rua Gumercindo Saraiva\, 54 - Jardim Europa\, São Paulo\, SP\, Brasil
CATEGORIES:São Paulo
ATTACH;FMTTYPE=image/jpeg:https://artequeacontece.com.br/wp-content/uploads/2023/08/230628-Lume-Luiz-Hermano-ph-Ana-Pigosso-004-AL_2-2.jpg
END:VEVENT
END:VCALENDAR