BEGIN:VCALENDAR
VERSION:2.0
PRODID:-//Arte Que Acontece - ECPv6.15.20//NONSGML v1.0//EN
CALSCALE:GREGORIAN
METHOD:PUBLISH
X-WR-CALNAME:Arte Que Acontece
X-ORIGINAL-URL:https://artequeacontece.com.br
X-WR-CALDESC:Eventos para Arte Que Acontece
REFRESH-INTERVAL;VALUE=DURATION:PT1H
X-Robots-Tag:noindex
X-PUBLISHED-TTL:PT1H
BEGIN:VTIMEZONE
TZID:America/Sao_Paulo
BEGIN:STANDARD
TZOFFSETFROM:-0300
TZOFFSETTO:-0300
TZNAME:-03
DTSTART:20240101T000000
END:STANDARD
END:VTIMEZONE
BEGIN:VEVENT
DTSTART;TZID=America/Sao_Paulo:20250508T100000
DTEND;TZID=America/Sao_Paulo:20250810T180000
DTSTAMP:20260419T085818
CREATED:20250621T183058Z
LAST-MODIFIED:20250621T183058Z
UID:63381-1746698400-1754848800@artequeacontece.com.br
SUMMARY:"Encounters: Huma Bhabha x Giacometti" no Barbican Centre
DESCRIPTION:“Encounters: Giacometti x Huma Bhabha”\, vista da instalação\, Barbican Art Gallery\, 2025. Crédito: © Max Creasy / Barbican Art Gallery.\n\n\n\n\n\n\n\n\n\nNo novo e intimista espaço expositivo do Barbican\, as esculturas monumentais da artista contemporânea Huma Bhabha estabelecem diálogos potentes com as obras do escultor do século XX Alberto Giacometti. \nAs esculturas reunidas nesta mostra percorrem quase um século de produção artística\, utilizando materiais como gesso\, bronze\, terracota e objetos encontrados. Obras de diferentes fases da carreira de Bhabha são apresentadas lado a lado com peças icônicas de Giacometti\, criadas majoritariamente no período pós-Segunda Guerra Mundial. \nNeste encontro\, o antigo\, o moderno e o contemporâneo se cruzam\, com ambos os artistas compartilhando um interesse profundo pela história da escultura figurativa e pela representação do corpo como lugar dos traumas do nosso tempo. A galeria se transforma em uma paisagem de figuras fantasmagóricas\, que refletem sobre os conflitos contemporâneos\, nos quais a vida humana é frequentemente tratada como dano colateral. \nNo Foyer do Nível 2\, em exibição gratuita\, estão expostas quatro esculturas monumentais de Huma Bhabha. Estas formas gigantes representam tanto o antigo quanto o moderno\, o humano e o não-humano\, e são fortemente inspiradas por filmes de terror e fantasia das décadas de 1980 e 1990.
URL:https://artequeacontece.com.br/evento/encounters-huma-bhabha-x-giacometti-no-barbican-centre/
LOCATION:Barbican Centre\, Silk St Barbican London\, Londres\, Inglaterra\, Reino unido
CATEGORIES:Londres
ATTACH;FMTTYPE=image/jpeg:https://artequeacontece.com.br/wp-content/uploads/2025/06/HumaBhabha003-1.jpg
END:VEVENT
END:VCALENDAR