BEGIN:VCALENDAR
VERSION:2.0
PRODID:-//Arte Que Acontece - ECPv6.15.20//NONSGML v1.0//EN
CALSCALE:GREGORIAN
METHOD:PUBLISH
X-WR-CALNAME:Arte Que Acontece
X-ORIGINAL-URL:https://artequeacontece.com.br
X-WR-CALDESC:Eventos para Arte Que Acontece
REFRESH-INTERVAL;VALUE=DURATION:PT1H
X-Robots-Tag:noindex
X-PUBLISHED-TTL:PT1H
BEGIN:VTIMEZONE
TZID:America/Sao_Paulo
BEGIN:STANDARD
TZOFFSETFROM:-0300
TZOFFSETTO:-0300
TZNAME:-03
DTSTART:20240101T000000
END:STANDARD
END:VTIMEZONE
BEGIN:VEVENT
DTSTART;TZID=America/Sao_Paulo:20250322T100000
DTEND;TZID=America/Sao_Paulo:20250510T180000
DTSTAMP:20260419T103711
CREATED:20250321T163551Z
LAST-MODIFIED:20250321T163551Z
UID:61703-1742637600-1746900000@artequeacontece.com.br
SUMMARY:"Encontro/Confronto – Hélio Oiticica e Waldemar Cordeiro” na Pinakotheke
DESCRIPTION:Waldemar Cordeiro\, “Ideia visível”\, 1957. Crédito: Edouard Fraipont\n\n\n\n\nA Pinakotheke São Paulo apresenta\, no dia 22 de março de 2025\, às 11h\, a exposição “Encontro/Confronto – Hélio Oiticica e Waldemar Cordeiro”\, com 37 obras dos dois artistas que participaram ativamente dos movimentos neoconcreto e concreto\, respectivamente\, que defendiam diferentes caminhos da arte nos anos 1950 e 1960. Idealizada por Max Perlingeiro\, que divide a curadoria com o artista Luciano Figueiredo\, um dos grandes especialistas na obra de Hélio Oiticica\, e Paulo Venancio Filho\, pesquisador dos dois movimentos\, a exposição propõe uma reflexão\, já distanciada pelo tempo\, dos encontros e dos confrontos entre esses dois artistas. A mostra celebra ainda o centenário de nascimento de Waldemar Cordeiro. \nA pesquisa e os interesses que moveram Hélio Oiticica (1937-1980) e Waldemar Cordeiro (1925-1973) tiveram um paralelismo que ficou diluído ao longo do tempo. Hélio\, no Rio\, deflagrador do movimento neoconcreto\, e Cordeiro\, em São Paulo\, porta-voz dos concretistas\, com batalhas intelectuais formidáveis entre os dois grupos. Ao preparar a exposição “Opinião 65: 50 anos depois”\, em 2015\, Max Perlingeiro percebeu vários pontos de contato entre os dois artistas\, já apontados por Augusto de Campos (1931) ainda nos anos 1960. A fim de trazer essa reflexão para os dias de hoje\, ele convidou o artista Luciano Figueiredo\, especialista na obra de Hélio Oiticica\, e o curador Paulo Venancio Filho\, pesquisador dos dois movimentos\, para propor esta mostra reflexiva\, que tem a colaboração do Projeto Hélio Oiticica e da família Waldemar Cordeiro. Analivia Cordeiro\, filha de Waldemar Cordeiro\, grande entusiasta do projeto\, assina um texto no catálogo que acompanha a exposição\, que celebra ainda o centenário de nascimento do artista. \nFrente a frente\, na grande sala da Pinakotheke\, em São Paulo\, estarão 18 obras de Hélio Oiticica e 19 de Waldemar Cordeiro\, provenientes de coleções públicas: Coleção Roger Wright\, em comodato com Pinacoteca do Estado de São Paulo\, e Coleção Gilberto Chateaubriand/Museu de Arte Moderna do Rio de Janeiro\, e de coleções particulares. Entre os destaques da mostra estão dois “Bólides” de Hélio Oiticica – “Homenagem a Cara de Cavalo” (1965-1966) e “Homenagem a Mineirinho” (1967) – pinturas do Grupo Frente\, “Metaesquemas” (1957 e 1958)\, “Relevo espacial” (c.1960)\, monocromos da série “Invenções” (1959) e a bandeira “Seja Marginal Seja Herói. De Waldemar Cordeiro\, as pinturas geométricas (anos 1940-1950)\, pinturas e colagens (anos 1960)\, obras da série “Popcreto: Popcreto para um popcrítico” (1964)\, “Dólar” (1966) e “Autorretrato Probabilístico” (1967)\, Arteônica\, e a bandeira “Viva Maria (Canalhas)”\, de 1966). Complementando a mostra\, a maquete “Projeto Cães de Caça”\, de Helio Oiticica (Labirinto) e o “Labirinto” de Waldemar Cordeiro: “Maquete do Parque infantil do Clube Esperia Marginal Tietê”\, São Paulo.
URL:https://artequeacontece.com.br/evento/encontro-confronto-helio-oiticica-e-waldemar-cordeiro-na-pinakotheke/
LOCATION:Pinakotheke Cultural São Paulo\, Rua Ministro Nelson Hungria\, 200\, Morumbi\, São Paulo\, São Paulo\, Brasil
CATEGORIES:São Paulo
ATTACH;FMTTYPE=image/jpeg:https://artequeacontece.com.br/wp-content/uploads/2025/03/WALDEMAR-CORDEIRO-1925-1973_Ideia-visivel-1957_-Edouard-Fraipont-1.jpg
END:VEVENT
END:VCALENDAR