BEGIN:VCALENDAR
VERSION:2.0
PRODID:-//Arte Que Acontece - ECPv6.15.20//NONSGML v1.0//EN
CALSCALE:GREGORIAN
METHOD:PUBLISH
X-WR-CALNAME:Arte Que Acontece
X-ORIGINAL-URL:https://artequeacontece.com.br
X-WR-CALDESC:Eventos para Arte Que Acontece
REFRESH-INTERVAL;VALUE=DURATION:PT1H
X-Robots-Tag:noindex
X-PUBLISHED-TTL:PT1H
BEGIN:VTIMEZONE
TZID:America/Sao_Paulo
BEGIN:STANDARD
TZOFFSETFROM:-0300
TZOFFSETTO:-0300
TZNAME:-03
DTSTART:20250101T000000
END:STANDARD
END:VTIMEZONE
BEGIN:VEVENT
DTSTART;TZID=America/Sao_Paulo:20260205T110000
DTEND;TZID=America/Sao_Paulo:20260331T190000
DTSTAMP:20260422T054540
CREATED:20260130T225644Z
LAST-MODIFIED:20260213T014125Z
UID:68509-1770289200-1774983600@artequeacontece.com.br
SUMMARY:"Emil Sands: Watchmen" na Victoria Miro Venice
DESCRIPTION:Emil Sands\, “Alice” 2025.\nEmil Sands\, pintor e escritor londrino radicado em Nova Iorque\, explora o complexo território psicológico entre ver e ser visto. Suas pinturas são simultaneamente retratos e paisagens; atento aos códigos e ortodoxias dos gêneros\, ele brinca com suas convenções ao abordar temas de vulnerabilidade e exposição extraídos de sua experiência pessoal. \nEnquanto trabalhos recentes se concentravam em cenas de praia ou paisagens marinhas\, suas novas pinturas se refugiam em espaços privados. Esses ambientes formais – espaços meticulosamente cuidados\, incluindo jardins com estátuas clássicas – trazem um aspecto psicológico intensificado\, oscilando entre interioridade e exterioridade\, privacidade e autopresentação\, confinamento físico e revelação corporal. \n 
URL:https://artequeacontece.com.br/evento/emil-sands-watchmen-na-victoria-miro-venice/
LOCATION:Victoria Miro Venice\, San Marco 1994\, Veneza\, 30124\, Italy
CATEGORIES:Veneza
ATTACH;FMTTYPE=image/jpeg:https://artequeacontece.com.br/wp-content/uploads/2026/02/Emil-Sands-Alice-2025-scaled-1.jpeg
END:VEVENT
END:VCALENDAR