BEGIN:VCALENDAR
VERSION:2.0
PRODID:-//Arte Que Acontece - ECPv6.15.20//NONSGML v1.0//EN
CALSCALE:GREGORIAN
METHOD:PUBLISH
X-WR-CALNAME:Arte Que Acontece
X-ORIGINAL-URL:https://artequeacontece.com.br
X-WR-CALDESC:Eventos para Arte Que Acontece
REFRESH-INTERVAL;VALUE=DURATION:PT1H
X-Robots-Tag:noindex
X-PUBLISHED-TTL:PT1H
BEGIN:VTIMEZONE
TZID:America/Sao_Paulo
BEGIN:STANDARD
TZOFFSETFROM:-0300
TZOFFSETTO:-0300
TZNAME:-03
DTSTART:20220101T000000
END:STANDARD
END:VTIMEZONE
BEGIN:VEVENT
DTSTART;TZID=America/Sao_Paulo:20230127T090000
DTEND;TZID=America/Sao_Paulo:20230430T230000
DTSTAMP:20260422T053553
CREATED:20230313T152624Z
LAST-MODIFIED:20230608T145615Z
UID:39212-1674810000-1682895600@artequeacontece.com.br
SUMMARY:Elizaveta Porodina no Fotografiska Museum
DESCRIPTION:Na individual Un/Masked\, de Elizaveta Porodina\, o público é convidado a mergulhar no universo de sua visão artística e de criação de imagens oníricas e fantasiosas. Com sua fotografia experimental que flerta abertamente com o expressionismo e o surrealismo\, ela invoca o espectador a mesclar passado e presente\, antigo e contemporâneo\, numa jornada pelo tempo e espaço. A exposição reflete os últimos anos de trabalho da jovem fotógrafa russa Elizaveta Porodina. Seu imaginário é surreal\, sonhador e íntimo\, por vezes assustador\, assombroso e delicado. Lágrimas e água são temas recorrentes em suas imagens e ela se inspira em sua infância e na arte\, História\, cinema e religião russos. Combinando o íntimo e o assustador\, Elizaveta persegue seu tema com uma precisão surpreendente\, alcançando intensidade e frescor. Como ela declarou\, “Ofereço ao meu público uma janela para o meu subconsciente com o meu trabalho. Peço-lhes que distorçam e brinquem com sua compreensão da realidade e que entrem em outra dimensão comigo através de minha escolha de elenco\, iluminação e cenários”. Nascida em Moscou em 1987\, Elizaveta Porodina cresceu na Rússia pós-soviética\, mas trabalha em Munique\, Alemanha\, desde os 12 anos de idade. Com formação teórica em psicologia clínica\, Elizaveta Porodina fala com uma linguagem fotográfica distinta: cor\, movimento e emoção.   Requisitada pelas principais publicações de moda por seu estilo pessoal e linguagem visual criativa\, a mídia e as grifes estão competindo para contratá-la para algumas de suas campanhas globais mais cobiçadas. Ela trabalha ativamente com novas técnicas e plataformas sociais e cada vez mais vem adquirindo  novas formas de expressar suas ideias fotograficamente. Colaborando intimamente com seus modelos – ou musas\, como ela os chama – ela descreve o momento em que a foto é tirada como uma comunhão\, quase um ritual mágico.
URL:https://artequeacontece.com.br/evento/elizaveta-porodina-no-fotografiska/
LOCATION:Fotografiska Museum\, 281 Park Ave S Manhattan\, Manhattan\, Nova York\, Estados Unidos
CATEGORIES:Nova York
ATTACH;FMTTYPE=image/jpeg:https://artequeacontece.com.br/wp-content/uploads/2023/03/71143145-49585836.jpeg
END:VEVENT
END:VCALENDAR