BEGIN:VCALENDAR
VERSION:2.0
PRODID:-//Arte Que Acontece - ECPv6.15.20//NONSGML v1.0//EN
CALSCALE:GREGORIAN
METHOD:PUBLISH
X-WR-CALNAME:Arte Que Acontece
X-ORIGINAL-URL:https://artequeacontece.com.br
X-WR-CALDESC:Eventos para Arte Que Acontece
REFRESH-INTERVAL;VALUE=DURATION:PT1H
X-Robots-Tag:noindex
X-PUBLISHED-TTL:PT1H
BEGIN:VTIMEZONE
TZID:America/Sao_Paulo
BEGIN:STANDARD
TZOFFSETFROM:-0300
TZOFFSETTO:-0300
TZNAME:-03
DTSTART:20220101T000000
END:STANDARD
END:VTIMEZONE
BEGIN:VEVENT
DTSTART;TZID=America/Sao_Paulo:20231010T100000
DTEND;TZID=America/Sao_Paulo:20240414T180000
DTSTAMP:20260422T071239
CREATED:20231010T235157Z
LAST-MODIFIED:20231010T235203Z
UID:44250-1696932000-1713117600@artequeacontece.com.br
SUMMARY:“El Anatsui: Behind the Red Moon” na Tate Modern
DESCRIPTION:Behind the Red Moon\, de El Anatsui\, é uma instalação escultural monumental feita de milhares de tampas e fragmentos de garrafas de metal. Amassando\, esmagando e costurando esses fragmentos em diferentes composições\, grandes painéis são montados para formar campos abstratos massivos de cor\, forma e linha. A comissão se baseia no interesse de Anatsui pelas histórias de encontros e pela migração de mercadorias e pessoas durante o comércio transatlântico de escravos. Os topos de garrafa usados nessa comissão\, provenientes da Nigéria\, fazem parte de uma indústria contemporânea construída sobre rotas comerciais coloniais. \n\n\n\nBehind the Red Moon é apresentado como uma obra de arte em três atos. Os visitantes são convidados a embarcar em uma jornada de movimento e interação por meio das peças\, em uma dança entre corpos e esculturas. \n\n\n\nObservando as peças de longe\, um cenário de símbolos é revelado: a lua\, a vela\, a onda\, a terra e a parede. De perto\, os logotipos das tampas de garrafa falam sobre as vidas sociais do material como mercadorias de uma indústria global construída sobre rotas comerciais coloniais. Juntos\, o passado e o presente da África e da Europa se fundem em formas esculturais que pendem no ar e parecem flutuar pelo espaço. As peças incorporam a ideia de Anatsui de “forma não fixa” e fazem parte de sua abordagem altamente experimental à escultura. \n\n\n\nAnatsui explora as possibilidades poéticas de seus materiais. “Cada material possui suas propriedades\, físicas e até espirituais”\, explica ele. Behind the Red Moon explora forças elementares entrelaçadas com histórias humanas de poder\, opressão\, dispersão e sobrevivência.
URL:https://artequeacontece.com.br/evento/el-anatsui-behind-the-red-moon-na-tate-modern/
LOCATION:Tate Modern\, Bankside\, Londres\, Reino unido
CATEGORIES:Londres
ATTACH;FMTTYPE=image/jpeg:https://artequeacontece.com.br/wp-content/uploads/2023/10/el-anatsui-1.jpeg
END:VEVENT
END:VCALENDAR