BEGIN:VCALENDAR
VERSION:2.0
PRODID:-//Arte Que Acontece - ECPv6.15.20//NONSGML v1.0//EN
CALSCALE:GREGORIAN
METHOD:PUBLISH
X-WR-CALNAME:Arte Que Acontece
X-ORIGINAL-URL:https://artequeacontece.com.br
X-WR-CALDESC:Eventos para Arte Que Acontece
REFRESH-INTERVAL;VALUE=DURATION:PT1H
X-Robots-Tag:noindex
X-PUBLISHED-TTL:PT1H
BEGIN:VTIMEZONE
TZID:America/Sao_Paulo
BEGIN:STANDARD
TZOFFSETFROM:-0300
TZOFFSETTO:-0300
TZNAME:-03
DTSTART:20240101T000000
END:STANDARD
END:VTIMEZONE
BEGIN:VEVENT
DTSTART;TZID=America/Sao_Paulo:20250613T100000
DTEND;TZID=America/Sao_Paulo:20251019T180000
DTSTAMP:20260419T084459
CREATED:20250621T170332Z
LAST-MODIFIED:20250621T170332Z
UID:63349-1749808800-1760896800@artequeacontece.com.br
SUMMARY:"Edward Burra – Ithell Colquhoun" na Tate Britain
DESCRIPTION:Edward Burra\, “Dancing Skeletons”\, 1934. © Tate\n\n\n\n\n\n\n\n\n\n\n\n\n\nEdward Burra é um dos artistas britânicos mais singulares do século XX\, conhecido por suas cenas vibrantes e satíricas dos bastidores urbanos e da cultura queer durante os “Roaring Twenties”. Mestre da aquarela\, a exposição revela como Burra ultrapassou os limites desse meio tradicionalmente delicado para criar composições ousadas e intensas. Sua prática abrange um amplo espectro de obras imaginativas\, influenciadas por música\, performance\, cultura popular\, literatura e história da arte. \nEsta é a primeira retrospectiva em Londres em 40 anos\, e destaca o interesse de Burra em vivenciar outras sociedades e culturas. Observador atento\, suas obras também incluem paisagens de tom macabro\, que refletem sua percepção dos grandes eventos mundiais\, como a Guerra Civil Espanhola\, a Segunda Guerra Mundial e a revolução industrial do pós-guerra. Sua vivência com a deficiência teve impacto significativo em sua prática artística e possivelmente influenciou sua representação de comunidades marginalizadas. \nA mostra oferece uma visão aprofundada da carreira de Burra\, reunindo mais de 80 pinturas e desenhos\, além de materiais do Arquivo Edward Burra na Tate\, proporcionando ao público uma imersão no processo criativo extraordinariamente imaginativo do artista.
URL:https://artequeacontece.com.br/evento/edward-burra-ithell-colquhoun-na-tate-britain/
LOCATION:Tate Britain\, Millbank\, London SW1P 4RG\, Londres\, Reino unido
CATEGORIES:Londres
ATTACH;FMTTYPE=image/jpeg:https://artequeacontece.com.br/wp-content/uploads/2025/06/width-540_I9lSawS.jpg
END:VEVENT
END:VCALENDAR